BEGIN:VCALENDAR
VERSION:2.0
PRODID:-// - ECPv6.15.20//NONSGML v1.0//EN
CALSCALE:GREGORIAN
METHOD:PUBLISH
X-ORIGINAL-URL:https://agora-eg.de
X-WR-CALDESC:Veranstaltungen für 
REFRESH-INTERVAL;VALUE=DURATION:PT1H
X-Robots-Tag:noindex
X-PUBLISHED-TTL:PT1H
BEGIN:VTIMEZONE
TZID:Europe/Paris
BEGIN:DAYLIGHT
TZOFFSETFROM:+0100
TZOFFSETTO:+0200
TZNAME:CEST
DTSTART:20220327T010000
END:DAYLIGHT
BEGIN:STANDARD
TZOFFSETFROM:+0200
TZOFFSETTO:+0100
TZNAME:CET
DTSTART:20221030T010000
END:STANDARD
BEGIN:DAYLIGHT
TZOFFSETFROM:+0100
TZOFFSETTO:+0200
TZNAME:CEST
DTSTART:20230326T010000
END:DAYLIGHT
BEGIN:STANDARD
TZOFFSETFROM:+0200
TZOFFSETTO:+0100
TZNAME:CET
DTSTART:20231029T010000
END:STANDARD
BEGIN:DAYLIGHT
TZOFFSETFROM:+0100
TZOFFSETTO:+0200
TZNAME:CEST
DTSTART:20240331T010000
END:DAYLIGHT
BEGIN:STANDARD
TZOFFSETFROM:+0200
TZOFFSETTO:+0100
TZNAME:CET
DTSTART:20241027T010000
END:STANDARD
END:VTIMEZONE
BEGIN:VEVENT
DTSTART;TZID=Europe/Paris:20231028T200000
DTEND;TZID=Europe/Paris:20231028T200000
DTSTAMP:20260423T133836
CREATED:20230913T232746Z
LAST-MODIFIED:20230926T153728Z
UID:929-1698523200-1698523200@agora-eg.de
SUMMARY:BAL POUSSIÈRE - Togo Tanz Festival
DESCRIPTION:Das Togo Tanz Festival vom 27.10. bis 29.10.2023 lädt ein die mystischen Geheimnisse von Togo kennen zu lernen. \nAm Samstag 28.10. ab 20 Uhr gibt uns der Bal Poussière die Gelegenheit bei einem Konzert traditionelle und moderne Tänze aus Togo zu erleben. \nDie Tänzer Kossi Sebastien Aholou-Wokawui und Ayaovi Kokousse haben mannigfache Tanzausbildungen und Auszeichnungen erhalten und tanzen und unterrichten international. Begleitet werden sie von den Musikern Anani Attih und Koami Vignon auf den Adjindan-Trommeln aus Togo. \nDas Land ist reich an Kultur\, da die uralt überlieferten Traditionen Bestandteil des alltäglichen Lebens der vielen verschiedenen Ethnien in Togo sind. Jeder Stamm der über 50 verschiedenen Ethnien hat seine eigene Musik\, seine eigenen Musikinstrumente\, Tänze\, Masken\, Speisen und seine eigene Sprache\, tief verwurzelt in Naturreligion und -kultur. Die Menschen in Togo führen ein Leben\, das wir hier in Deutschland nicht kennen\, das sich aber durchaus lohnt kennen zu lernen. \nAuch landschaftlich hat das nur 50 bis 140 km breite Land viel zu bieten\, es gibt dort Regenwälder\, Palmstrände\, Wüsten\, fast 1000 m hohe Berge und die Savanne. \nIm Rahmen des Togo Tanz Festivals gibt es die Gelegenheit an Tanzworkshops teilzunehmen: \nAm Freitag 27.10. ab 17 Uhr zum Auftakt\, bei einen offenen Tanzworkshop mit den Tänzern und Musikern\, können an diesem Tag alle tanzen.  Das ist der Einstieg in die Workshops mit allen Künstlern am Samstag 28.10. und am Sonntag 29.10.  Jeweils von 11 bis 13 Uhr Afro Contemporain und von 13 bis 15 Uhr traditionelle Tänze aus Togo. \nAnmeldung und Infos: karin-ewald@gmx.de \nSamstag 28. Oktober 2023  –  20:00  –  Eintritt 15€\, ermäßigt 10€  –  reservierung@agora-da.de
URL:https://agora-eg.de/event/bal-poussiere-togo-tanz-festival/
ATTACH;FMTTYPE=image/jpeg:https://agora-eg.de/wp-content/uploads/2023/09/Kossi-Aholou.jpg
END:VEVENT
END:VCALENDAR