BEGIN:VCALENDAR
VERSION:2.0
PRODID:-// - ECPv6.15.20//NONSGML v1.0//EN
CALSCALE:GREGORIAN
METHOD:PUBLISH
X-ORIGINAL-URL:https://agora-eg.de
X-WR-CALDESC:Veranstaltungen für 
REFRESH-INTERVAL;VALUE=DURATION:PT1H
X-Robots-Tag:noindex
X-PUBLISHED-TTL:PT1H
BEGIN:VTIMEZONE
TZID:Europe/Paris
BEGIN:DAYLIGHT
TZOFFSETFROM:+0100
TZOFFSETTO:+0200
TZNAME:CEST
DTSTART:20220327T010000
END:DAYLIGHT
BEGIN:STANDARD
TZOFFSETFROM:+0200
TZOFFSETTO:+0100
TZNAME:CET
DTSTART:20221030T010000
END:STANDARD
BEGIN:DAYLIGHT
TZOFFSETFROM:+0100
TZOFFSETTO:+0200
TZNAME:CEST
DTSTART:20230326T010000
END:DAYLIGHT
BEGIN:STANDARD
TZOFFSETFROM:+0200
TZOFFSETTO:+0100
TZNAME:CET
DTSTART:20231029T010000
END:STANDARD
BEGIN:DAYLIGHT
TZOFFSETFROM:+0100
TZOFFSETTO:+0200
TZNAME:CEST
DTSTART:20240331T010000
END:DAYLIGHT
BEGIN:STANDARD
TZOFFSETFROM:+0200
TZOFFSETTO:+0100
TZNAME:CET
DTSTART:20241027T010000
END:STANDARD
END:VTIMEZONE
BEGIN:VEVENT
DTSTART;TZID=Europe/Paris:20231110T200000
DTEND;TZID=Europe/Paris:20231110T220000
DTSTAMP:20260419T161820
CREATED:20230908T144511Z
LAST-MODIFIED:20230908T144511Z
UID:915-1699646400-1699653600@agora-eg.de
SUMMARY:Paul Walke Trio
DESCRIPTION:Paul Walke bastelt gerne Collagen auf Papier\, aber noch lieber auf seiner Gitarre.\nNach Folkmusik klingende Balladen treffen in seinem Trio auf explosive\, dissonante Kompositionen – Zuhörende werden\nüberrascht\, Hörgewohnheiten über den Haufen geworfen. Spontanität und Interaktion sind dabei nur zwei zentrale Werkzeuge\, derer sich das Trio bedient.\nPaul Walkes Kompositionen spiegeln dabei seine Vorliebe für das Collagieren wider. Kleinste Schnipsel verschiedenster musikalischer Elemente sind bei genauer Betrachtung des Gesamtbildes erkennbar:\nEinflüsse aus klassischem Gitarrenrepertoire\, schwingender Jazztradition und avantgardistischer Musik – all das wird in kammermusikalischer Besetzung zusammengeklebt. Bei der musikalischen Gestaltung helfen ihm dabei sensibel groovend und mit stets offenen Ohren: \nMario Angelov – Kontrabass\nMicha Jesske – Schlagzeug \n„achtzehn“ (paul walke)\nhttps://www.youtube.com/watch?v=XkxxvMuw_5A\n„does he know?” (paul walke)\nhttps://www.youtube.com/watch?v=E0o6PrtAkSM
URL:https://agora-eg.de/event/paul-walke-trio/
ATTACH;FMTTYPE=image/jpeg:https://agora-eg.de/wp-content/uploads/2023/09/paulwalketriomoritzreinisch-scaled.jpg
ORGANIZER;CN="Agora bewegt e.V.":MAILTO:reservierung@agora-da.de
END:VEVENT
END:VCALENDAR