BEGIN:VCALENDAR
VERSION:2.0
PRODID:-// - ECPv6.15.20//NONSGML v1.0//EN
CALSCALE:GREGORIAN
METHOD:PUBLISH
X-ORIGINAL-URL:https://agora-eg.de
X-WR-CALDESC:Veranstaltungen für 
REFRESH-INTERVAL;VALUE=DURATION:PT1H
X-Robots-Tag:noindex
X-PUBLISHED-TTL:PT1H
BEGIN:VTIMEZONE
TZID:Europe/Paris
BEGIN:DAYLIGHT
TZOFFSETFROM:+0100
TZOFFSETTO:+0200
TZNAME:CEST
DTSTART:20220327T010000
END:DAYLIGHT
BEGIN:STANDARD
TZOFFSETFROM:+0200
TZOFFSETTO:+0100
TZNAME:CET
DTSTART:20221030T010000
END:STANDARD
BEGIN:DAYLIGHT
TZOFFSETFROM:+0100
TZOFFSETTO:+0200
TZNAME:CEST
DTSTART:20230326T010000
END:DAYLIGHT
BEGIN:STANDARD
TZOFFSETFROM:+0200
TZOFFSETTO:+0100
TZNAME:CET
DTSTART:20231029T010000
END:STANDARD
BEGIN:DAYLIGHT
TZOFFSETFROM:+0100
TZOFFSETTO:+0200
TZNAME:CEST
DTSTART:20240331T010000
END:DAYLIGHT
BEGIN:STANDARD
TZOFFSETFROM:+0200
TZOFFSETTO:+0100
TZNAME:CET
DTSTART:20241027T010000
END:STANDARD
END:VTIMEZONE
BEGIN:VEVENT
DTSTART;TZID=Europe/Paris:20231117T190000
DTEND;TZID=Europe/Paris:20231119T190000
DTSTAMP:20260419T144040
CREATED:20230908T143500Z
LAST-MODIFIED:20230914T144658Z
UID:909-1700247600-1700420400@agora-eg.de
SUMMARY:EVA-GESINE WEGNER "Das Licht im Stein"
DESCRIPTION:Mit ihrem 80. Geburtstag verabschiedet sich die Bildhauerin Eva-Gesine Wegner mit einer besonderen Licht-Installation mit 10 hoch transparenten Alabastern von der Bildhauerei. Alabaster ist ein Träger für das Licht der Erde\n\n\n\n\n\nDAS LICHT IM STEIN\nFreitag 17. November  19 UhrSamstag 18. November  19 Uhr \nunter Mitwirkung von mehreren Agoris: Stimme\, Darstellendes Spiel\, Improvisation\, Tanz\, Dunkelheit und Licht \njeweils im großen Seminarraum von Agora \nanschließend Umtrunk \nNach Beendigung der Installation läuft als Endlosschleife im kleinen Seminarraum ein Rückblick auf Eva-Gesine Wegners künstlerisches Schaffen \nSonntag 19. November  16 Uhr \nRückblick auf Eva-Gesine Wegners künstlerisches SchaffenMöglichkeit zum Gespräch mit ihr und Gästen\, die an den Projekten beteiligt waren \nim kleinen Seminarraum \nWegen begrenzter Platzzahl wird dringend um Anmeldung gebeten (reservierung@agora-da.de)  –  Eintritt frei
URL:https://agora-eg.de/event/eva-gesine-wegner-das-licht-im-stein/
ATTACH;FMTTYPE=image/jpeg:https://agora-eg.de/wp-content/uploads/2023/09/Ewa-Wegner.jpeg
END:VEVENT
END:VCALENDAR