BEGIN:VCALENDAR
VERSION:2.0
PRODID:-// - ECPv6.15.20//NONSGML v1.0//EN
CALSCALE:GREGORIAN
METHOD:PUBLISH
X-ORIGINAL-URL:https://agora-eg.de
X-WR-CALDESC:Veranstaltungen für 
REFRESH-INTERVAL;VALUE=DURATION:PT1H
X-Robots-Tag:noindex
X-PUBLISHED-TTL:PT1H
BEGIN:VTIMEZONE
TZID:Europe/Berlin
BEGIN:DAYLIGHT
TZOFFSETFROM:+0100
TZOFFSETTO:+0200
TZNAME:CEST
DTSTART:20230326T010000
END:DAYLIGHT
BEGIN:STANDARD
TZOFFSETFROM:+0200
TZOFFSETTO:+0100
TZNAME:CET
DTSTART:20231029T010000
END:STANDARD
BEGIN:DAYLIGHT
TZOFFSETFROM:+0100
TZOFFSETTO:+0200
TZNAME:CEST
DTSTART:20240331T010000
END:DAYLIGHT
BEGIN:STANDARD
TZOFFSETFROM:+0200
TZOFFSETTO:+0100
TZNAME:CET
DTSTART:20241027T010000
END:STANDARD
BEGIN:DAYLIGHT
TZOFFSETFROM:+0100
TZOFFSETTO:+0200
TZNAME:CEST
DTSTART:20250330T010000
END:DAYLIGHT
BEGIN:STANDARD
TZOFFSETFROM:+0200
TZOFFSETTO:+0100
TZNAME:CET
DTSTART:20251026T010000
END:STANDARD
END:VTIMEZONE
BEGIN:VEVENT
DTSTART;TZID=Europe/Berlin:20240214T193000
DTEND;TZID=Europe/Berlin:20240214T213000
DTSTAMP:20260419T161735
CREATED:20240202T093332Z
LAST-MODIFIED:20240202T093332Z
UID:2349-1707939000-1707946200@agora-eg.de
SUMMARY:Film "Das Land meines Vaters" von Edouard Bergeon
DESCRIPTION:In Kooperation mit Initiative Hofgut zeigen wir den französischen\nSpielfilm: \nPierre ist 25 Jahre alt\, als er aus Wyoming zurückkehrt\, um mit seiner Verlobten Claire den Hof seines Vaters in der französischen Heimat zu übernehmen. Der junge Landwirt strotzt nur so vor neuen Ideen und Tatendrang\, wohingegen sein Vater Jacques nur schwer loslassen kann. Zwanzig Jahre später ist der Betrieb gewachsen und mit ihm die Familie. Doch die glücklichen Tage der gemeinsamen Hingabe für Hof und Land gehören bald der Vergangenheit an. Denn trotz aufopferungsvoller harter Arbeit bis hin zur\nErschöpfung und der tatkräftigen Unterstützung von Claire und den beiden Kindern wachsen die Schulden – und mit ihnen Pierres Verzweiflung. \nMittwoch 14.2.2024 19:30 \nEintritt frei Spnden willkomen
URL:https://agora-eg.de/event/film-das-land-meines-vaters-von-edouard-bergeon/
ATTACH;FMTTYPE=image/jpeg:https://agora-eg.de/wp-content/uploads/2024/02/20240214_daslandmeinesvaterskinoplakat.jpg
ORGANIZER;CN="Agora bewegt e.V.":MAILTO:reservierung@agora-da.de
END:VEVENT
END:VCALENDAR