BEGIN:VCALENDAR
VERSION:2.0
PRODID:-// - ECPv6.15.20//NONSGML v1.0//EN
CALSCALE:GREGORIAN
METHOD:PUBLISH
X-ORIGINAL-URL:https://agora-eg.de
X-WR-CALDESC:Veranstaltungen für 
REFRESH-INTERVAL;VALUE=DURATION:PT1H
X-Robots-Tag:noindex
X-PUBLISHED-TTL:PT1H
BEGIN:VTIMEZONE
TZID:Europe/Berlin
BEGIN:DAYLIGHT
TZOFFSETFROM:+0100
TZOFFSETTO:+0200
TZNAME:CEST
DTSTART:20230326T010000
END:DAYLIGHT
BEGIN:STANDARD
TZOFFSETFROM:+0200
TZOFFSETTO:+0100
TZNAME:CET
DTSTART:20231029T010000
END:STANDARD
BEGIN:DAYLIGHT
TZOFFSETFROM:+0100
TZOFFSETTO:+0200
TZNAME:CEST
DTSTART:20240331T010000
END:DAYLIGHT
BEGIN:STANDARD
TZOFFSETFROM:+0200
TZOFFSETTO:+0100
TZNAME:CET
DTSTART:20241027T010000
END:STANDARD
BEGIN:DAYLIGHT
TZOFFSETFROM:+0100
TZOFFSETTO:+0200
TZNAME:CEST
DTSTART:20250330T010000
END:DAYLIGHT
BEGIN:STANDARD
TZOFFSETFROM:+0200
TZOFFSETTO:+0100
TZNAME:CET
DTSTART:20251026T010000
END:STANDARD
END:VTIMEZONE
BEGIN:VEVENT
DTSTART;TZID=Europe/Berlin:20240310T200000
DTEND;TZID=Europe/Berlin:20240310T200000
DTSTAMP:20260419T162434
CREATED:20240128T130734Z
LAST-MODIFIED:20240219T150357Z
UID:2325-1710100800-1710100800@agora-eg.de
SUMMARY:MARIA MANOUSAKI - Jazz aus Kreta
DESCRIPTION:Maria Manousaki gilt als eine der erfolgreichsten und vielseitigsten Musikerinnen in Griechenlands Jazz- und Weltmusikszene. Geboren in Johannesburg\, pendelt die virtuose Geigerin zwischen Chania und New York. In ihrer Musik beschwört sie Bilder traditioneller kretischer Volksmelodien herauf\, in die sie Einflüsse des New Yorker Jazz und nahöstliche Elemente einwebt. Ihre kongenialen Bandmusiker verleihen Marias Kompositionen eine eigene typische Charakteristik aus lebendigen und berauschenden Klängen und ausdrucksstarken\, melancholischen Melodien. Ihre Inspiration rührt von ihrem Respekt für diejenigen her\, die sich trotz aller Widrigkeiten übermächtigen Ideologien entgegenstellen\, um ihre Freiheit\, ihren Glauben und ihre Rechte zu verteidigen. Das ist aktueller denn je. Sie hat als Leaderin zwei Alben aufgenommen „Sole Voyage“ und „Hidden Trails“. Im Sommer soll das neue Album „Behind Closed Doors“ erscheinen\, von dem wir bestimmt schon einiges hören werden. Neben ihrer eigenen Musik sorgt sie in Chania mit dem Cretan World Music Festival für regen internationalen Austausch. \nDas Konzert im März 2023 mit Maria Manousaki bei Agora war nicht nur für uns als Publikum ein richtiges Highlight\, auch Maria und ihre Mitmusiker waren begeistert hier zu sein. So kommen sie wieder nach Darmstadt und wir freuen uns sehr auf diesen Auftritt. \nMaria Manousaki (Violine) | Dimitris Verdinoglou (Piano) | Michael Evdemon (Bass) | Alekos Roupas (Perkussion) | Kyriakos Stavrianoudakis (Kretische Laute) \nTickets: reservierung@agora-da.de \n 
URL:https://agora-eg.de/event/maria-manousaki-jazz-aus-kreta/
ATTACH;FMTTYPE=image/jpeg:https://agora-eg.de/wp-content/uploads/2024/01/2024-03-10-Maria-Manousaki-MMQ-scaled-e1707432762175.jpg
END:VEVENT
END:VCALENDAR