BEGIN:VCALENDAR
VERSION:2.0
PRODID:-// - ECPv6.15.20//NONSGML v1.0//EN
CALSCALE:GREGORIAN
METHOD:PUBLISH
X-ORIGINAL-URL:https://agora-eg.de
X-WR-CALDESC:Veranstaltungen für 
REFRESH-INTERVAL;VALUE=DURATION:PT1H
X-Robots-Tag:noindex
X-PUBLISHED-TTL:PT1H
BEGIN:VTIMEZONE
TZID:Europe/Berlin
BEGIN:DAYLIGHT
TZOFFSETFROM:+0100
TZOFFSETTO:+0200
TZNAME:CEST
DTSTART:20230326T010000
END:DAYLIGHT
BEGIN:STANDARD
TZOFFSETFROM:+0200
TZOFFSETTO:+0100
TZNAME:CET
DTSTART:20231029T010000
END:STANDARD
BEGIN:DAYLIGHT
TZOFFSETFROM:+0100
TZOFFSETTO:+0200
TZNAME:CEST
DTSTART:20240331T010000
END:DAYLIGHT
BEGIN:STANDARD
TZOFFSETFROM:+0200
TZOFFSETTO:+0100
TZNAME:CET
DTSTART:20241027T010000
END:STANDARD
BEGIN:DAYLIGHT
TZOFFSETFROM:+0100
TZOFFSETTO:+0200
TZNAME:CEST
DTSTART:20250330T010000
END:DAYLIGHT
BEGIN:STANDARD
TZOFFSETFROM:+0200
TZOFFSETTO:+0100
TZNAME:CET
DTSTART:20251026T010000
END:STANDARD
END:VTIMEZONE
BEGIN:VEVENT
DTSTART;TZID=Europe/Berlin:20240315T200000
DTEND;TZID=Europe/Berlin:20240315T200000
DTSTAMP:20260419T161822
CREATED:20240127T220544Z
LAST-MODIFIED:20240219T152508Z
UID:2307-1710532800-1710532800@agora-eg.de
SUMMARY:AGORA ABERTA #22 - Die Offene Bühne
DESCRIPTION:Es kommen in die Agora Aberta #22\n> NICKELS*ON – Alltags- und Protestlieder\n> Songbird Duo – Balladen\,Pop u.Rockiges\n> Monk Yard – Apprentices of Chant – Gregorianischer Gesang gepaart mit orchestralem Sound \nJede/r Musiker/in bzw. Band hat 30 Minuten Zeit\, seine/ihre Stücke zu präsentieren – möglichst unplugged oder mit dezenter Verstärkung. Danach kann nach Lust und Laune noch eine akustische Session laufen.\nDas Konzept ist ganz einfach: schickt eine Mail an  kultur@agora-da.de  und wir werden mit euch alles Weitere besprechen.
URL:https://agora-eg.de/event/agora-aberta-22-die-offene-buehne/
ATTACH;FMTTYPE=image/jpeg:https://agora-eg.de/wp-content/uploads/2023/03/Agora-Aberta.jpg
END:VEVENT
END:VCALENDAR