BEGIN:VCALENDAR
VERSION:2.0
PRODID:-// - ECPv6.15.20//NONSGML v1.0//EN
CALSCALE:GREGORIAN
METHOD:PUBLISH
X-ORIGINAL-URL:https://agora-eg.de
X-WR-CALDESC:Veranstaltungen für 
REFRESH-INTERVAL;VALUE=DURATION:PT1H
X-Robots-Tag:noindex
X-PUBLISHED-TTL:PT1H
BEGIN:VTIMEZONE
TZID:Europe/Berlin
BEGIN:DAYLIGHT
TZOFFSETFROM:+0100
TZOFFSETTO:+0200
TZNAME:CEST
DTSTART:20230326T010000
END:DAYLIGHT
BEGIN:STANDARD
TZOFFSETFROM:+0200
TZOFFSETTO:+0100
TZNAME:CET
DTSTART:20231029T010000
END:STANDARD
BEGIN:DAYLIGHT
TZOFFSETFROM:+0100
TZOFFSETTO:+0200
TZNAME:CEST
DTSTART:20240331T010000
END:DAYLIGHT
BEGIN:STANDARD
TZOFFSETFROM:+0200
TZOFFSETTO:+0100
TZNAME:CET
DTSTART:20241027T010000
END:STANDARD
BEGIN:DAYLIGHT
TZOFFSETFROM:+0100
TZOFFSETTO:+0200
TZNAME:CEST
DTSTART:20250330T010000
END:DAYLIGHT
BEGIN:STANDARD
TZOFFSETFROM:+0200
TZOFFSETTO:+0100
TZNAME:CET
DTSTART:20251026T010000
END:STANDARD
END:VTIMEZONE
BEGIN:VEVENT
DTSTART;TZID=Europe/Berlin:20240323T150000
DTEND;TZID=Europe/Berlin:20240323T180000
DTSTAMP:20260419T164247
CREATED:20231128T134739Z
LAST-MODIFIED:20240224T141615Z
UID:2142-1711206000-1711216800@agora-eg.de
SUMMARY:Das Spiel zum Dokumentarfilm Oeconomia
DESCRIPTION:Wen der Dokumentarfilm Oeconomia zum Weiterdenken angeregt hat\, der kann sich dem Thema Geld einmal ganz spielerisch nähern.\nMittels Brettspiel kann Wissen über unser heutiges Geldsystem angeeignet und es können Reformprojekte am grünen Tisch ausprobiert werden. \nDie Protagonistin Samirah Kenawi\, die schon in dem Dokumentarfilm Oeconomia Gespräche zu dem Thema mit Hochfinanzexperten geführt hat\, hat ein Spiel entwickelt\, das sich genau an diese Regeln hält. Sie wird an dem Tag selbst dabei sein\, das Spiel erklären und zur Diskussion anregen. \nDatum: Sa 23.3.23\nZeit: 15:00\nOrt: kleiner Seminarraum bei AGORA am Ostbahnhof\nBitte unbedingt einen Platz über reservierung@agora-da.de reservieren\, da die Anzahl stark begrenzt ist und es nur für Reservierungen Plätze gibt \nEintritt frei\, Spenden willkommen
URL:https://agora-eg.de/event/das-spiel-zum-dok-film-oeconomia/
LOCATION:Agora am Ostbahnhof Darmstadt\, Erbacher Strasse 89\, Darmstadt\, Hessen\, 64287\, Deutschland
ATTACH;FMTTYPE=image/jpeg:https://agora-eg.de/wp-content/uploads/2023/11/20240127_Spiel_z_Film-oekonomia_02-1204x457_2.jpg
END:VEVENT
BEGIN:VEVENT
DTSTART;TZID=Europe/Berlin:20240323T200000
DTEND;TZID=Europe/Berlin:20240323T220000
DTSTAMP:20260419T164247
CREATED:20240131T083712Z
LAST-MODIFIED:20240311T151215Z
UID:2338-1711224000-1711231200@agora-eg.de
SUMMARY:ENSEMBLE MEDITERRAE
DESCRIPTION:Ensemble Mediterrae \n„Über das Meer und die Liebe“ \nDas Mittelmeer gibt nicht nur dem Ensemble den Namen\, sondern ist auch Leitfaden Ihres Musikprogrammes. Das Meer\, dass das Element der Einigung\, der Mischung ist\, kann aber gleichzeitig auch Sehnsucht heraufbeschwören und eine unendliche Inspirationsquelle werden. \nNeben der sephardischen Musik\, die zur Kultur der iberischen Juden „Sepharden“ im Mittelalter gehört\, werden noch italienische Villanellen gespielt und Geschichten aus einem anderen Zeitalter erzählt. \nDas neue Ensemble „Mediterrae“ besteht aus vier professionellen Musikern\, dessen Zusammenspiel aus einer langjährigen Mitarbeit und Freundschaft entsteht. \nSol Crespo\, erfahrene argentinische\, Sopranistin\, Pianistin und Komponistin\, arbeitete als Solistin mit der „Kammeroper Frankfurt“ und wirkt regelmäßig bei dem Chor der Oper Frankfurt mit. \nFrancesco Terra studierte and der Musikhochschule in Mainz und Frankfurt im Fach Kontrabass\, Violone und Viola da Gamba\, er gastiert für CD Aufnahmen und Musik Festivals bei renomierten Ensembles für alte Musik wie: Bachorchester Mainz\, Harmonie Universelle und Cydonia Barocca. \nSerena Lanzalonga studiert Renaissance und Barockgesang an dem Conservatorio G.B.Pergolesi in Fermo (Ita)\, und bildet sich noch beim „Coro Giovanile Italiano“. Sie ist in verschiedenen Musikbereichen aktiv und 2014 sang sie als Choristin mit bei „The Rolling Stones“. \nManuel Virtù\, Lautenist und Poliinstrumentalist für Zupfinstrumente\, widmet sich der alten und ethnischen Musik. Er hat Soundtracks für Netflix und Amazon Prime komponiert\, und ist Leiter der „Accademia Musicale OSA“. \nEinen Vorgeschmack gibt es hier zu sehen und hören: \nhttps://www.youtube.com/watch?feature=shared&v=OPnPNSu9NMA \nhttps://www.youtube.com/watch?v=gfjDnOqpDh0 \n 
URL:https://agora-eg.de/event/ensemble-mediterrae/
ATTACH;FMTTYPE=image/jpeg:https://agora-eg.de/wp-content/uploads/2024/01/Ensemble-Mediterrae-Bilder-scaled-e1706690303745.jpg
ORGANIZER;CN="Agora bewegt e.V.":MAILTO:reservierung@agora-da.de
END:VEVENT
END:VCALENDAR