BEGIN:VCALENDAR
VERSION:2.0
PRODID:-// - ECPv6.15.20//NONSGML v1.0//EN
CALSCALE:GREGORIAN
METHOD:PUBLISH
X-ORIGINAL-URL:https://agora-eg.de
X-WR-CALDESC:Veranstaltungen für 
REFRESH-INTERVAL;VALUE=DURATION:PT1H
X-Robots-Tag:noindex
X-PUBLISHED-TTL:PT1H
BEGIN:VTIMEZONE
TZID:Europe/Berlin
BEGIN:DAYLIGHT
TZOFFSETFROM:+0100
TZOFFSETTO:+0200
TZNAME:CEST
DTSTART:20230326T010000
END:DAYLIGHT
BEGIN:STANDARD
TZOFFSETFROM:+0200
TZOFFSETTO:+0100
TZNAME:CET
DTSTART:20231029T010000
END:STANDARD
BEGIN:DAYLIGHT
TZOFFSETFROM:+0100
TZOFFSETTO:+0200
TZNAME:CEST
DTSTART:20240331T010000
END:DAYLIGHT
BEGIN:STANDARD
TZOFFSETFROM:+0200
TZOFFSETTO:+0100
TZNAME:CET
DTSTART:20241027T010000
END:STANDARD
BEGIN:DAYLIGHT
TZOFFSETFROM:+0100
TZOFFSETTO:+0200
TZNAME:CEST
DTSTART:20250330T010000
END:DAYLIGHT
BEGIN:STANDARD
TZOFFSETFROM:+0200
TZOFFSETTO:+0100
TZNAME:CET
DTSTART:20251026T010000
END:STANDARD
END:VTIMEZONE
BEGIN:VEVENT
DTSTART;TZID=Europe/Berlin:20240505T200000
DTEND;TZID=Europe/Berlin:20240505T200000
DTSTAMP:20260423T134104
CREATED:20240312T224207Z
LAST-MODIFIED:20240312T224207Z
UID:2472-1714939200-1714939200@agora-eg.de
SUMMARY:Bal Poussière: AMINATA TRAORÉ & DESIREE KOFFI & MARCELLE KABRAN (Côte d'Ivoire)
DESCRIPTION:Dieser Bal Poussière präsentiert zeitgenössische Choreografien der Tänzerinnen Aminata Traoré\, Desiree Koffi und Marcelle Kabran aus Côte d’Ivoire (Elfenbeinküste). Alle drei Tänzerinnen haben schon mehrfache Auszeichnungen für ihre vergangenen Choreografien erhalten\, daher dürfen wir sehr gespannt sein. \nDie choreografische Performance „Spirit“ der beiden Tänzerinnen Desiree Koffi und Marcelle Kabran ist ein Spiegelbild unserer Gesellschaft\, die von Unterdrückung und Macht geprägt ist\, und dem Wunsch sich wie andere zu verhalten oder wie andere erscheinen zu können.  \nDie Basis dieser Tanzkreation sind ganz persönliche Erfahrungen\, als Frau\, als Tänzerin in einer von Männern dominierten Welt\, die sich in eine universelle Reflexion über Feminismus\, den Geist und die Identität der Frau in der Gesellschaft\, die Einflüsse der Gesellschaft und den sozialen Zusammenhalt\, trotz unserer Unterschiede\, entwickeln. \nDie Tänzerin Aminata Traoré erforscht durch ihre Choreographie „In einem Flur“ den Begriff der Improvisation in einem öffentlichen Raum auf der Bewegungsgrundlage der traditionellen ivorischen Tänze. Ihre Bewegungen entspringen dem gegenwärtigen Moment und der unmittlbaren Umgebung. „In einem Flur“ schreitet eine Tänzerin\, die Korridormarkierungen können aus einem Seufzer\, einem Lachausbruch oder einem Lichtstrahl bestehen\, erlegen dem Körper Zwänge\, denen er sich ständig anpassen muss und dadurch mit dem Publikum interagiert.
URL:https://agora-eg.de/event/bal-poussiere-3-taenzerinnen/
ATTACH;FMTTYPE=image/jpeg:https://agora-eg.de/wp-content/uploads/2024/03/2024-05-05_Aminata_Traore_3_frauen.jpg
END:VEVENT
END:VCALENDAR