BEGIN:VCALENDAR
VERSION:2.0
PRODID:-// - ECPv6.15.20//NONSGML v1.0//EN
CALSCALE:GREGORIAN
METHOD:PUBLISH
X-ORIGINAL-URL:https://agora-eg.de
X-WR-CALDESC:Veranstaltungen für 
REFRESH-INTERVAL;VALUE=DURATION:PT1H
X-Robots-Tag:noindex
X-PUBLISHED-TTL:PT1H
BEGIN:VTIMEZONE
TZID:Europe/Berlin
BEGIN:DAYLIGHT
TZOFFSETFROM:+0100
TZOFFSETTO:+0200
TZNAME:CEST
DTSTART:20230326T010000
END:DAYLIGHT
BEGIN:STANDARD
TZOFFSETFROM:+0200
TZOFFSETTO:+0100
TZNAME:CET
DTSTART:20231029T010000
END:STANDARD
BEGIN:DAYLIGHT
TZOFFSETFROM:+0100
TZOFFSETTO:+0200
TZNAME:CEST
DTSTART:20240331T010000
END:DAYLIGHT
BEGIN:STANDARD
TZOFFSETFROM:+0200
TZOFFSETTO:+0100
TZNAME:CET
DTSTART:20241027T010000
END:STANDARD
BEGIN:DAYLIGHT
TZOFFSETFROM:+0100
TZOFFSETTO:+0200
TZNAME:CEST
DTSTART:20250330T010000
END:DAYLIGHT
BEGIN:STANDARD
TZOFFSETFROM:+0200
TZOFFSETTO:+0100
TZNAME:CET
DTSTART:20251026T010000
END:STANDARD
END:VTIMEZONE
BEGIN:VEVENT
DTSTART;TZID=Europe/Berlin:20240510T200000
DTEND;TZID=Europe/Berlin:20240510T200000
DTSTAMP:20260423T171223
CREATED:20240312T234601Z
LAST-MODIFIED:20240508T150207Z
UID:2477-1715371200-1715371200@agora-eg.de
SUMMARY:Lesung von Armin Nufer: SÉRGIO RAMÍREZ
DESCRIPTION:Armin Nufer und Jorge Sepúlveda stellen vor: Sérgio Ramírez. \nSérgio Ramírez ist ein vielfach ausgezeichneter nicaraguanischer Schriftsteller und Menschenrechtler und war zeitweilig Politiker. Nach dem Sturz der Somoza-Diktatur in Nicaragua war er zunächst Mitglied der fünfköpfigen Regierungsjunta und von 1984 bis 1990 Vizepräsident. 1995 gründete er mit vielen anderen wegen Meinungsverschiedenheiten – insbesondere mit dem früheren sandinistischen Präsidenten Daniel Ortega – die Partei Movimiento de Renovación Sandinista\, da er aus seiner Sicht Ortegas dogmatischen Kurs nicht mittragen wollte. \nNachdem sich Sérgio Ramírez aus der aktiven Politik zurückgezogen hatte\, widmete er sich wieder vor allem der Literatur. Sergio Ramírez zählt zu den wichtigsten zeitgenössischen Autoren Lateinamerikas. Seine Romane spiegeln die wechselhafte Geschichte seines Heimatlandes Nicaragua voller Phantasie\, hintergründigem Humor und tiefer Menschlichkeit\, teilweise spannend in die Form von Kriminalromanen gepackt. Mehr als 50 Bücher wurden in zahlreiche Sprachen übersetzt. \nVor der nicaraguanischen Präsidentschaftswahl im November 2021 nahmen die Repressionen gegen Regime-Kritiker zu. So erließ die Staatsanwaltschaft des Landes wegen kritischer Äußerungen auch einen Haftbefehl gegen Ramírez\, der sich allerdings zu diesem Zeitpunkt in Costa Rica befand. Im Februar 2023 wurde er – wie auch 93 weitere Kritiker des Ortega-Murillo-Regimes – zum „Vaterlandsverräter“ erklärt. Ihnen wurde die Staatsbürgerschaft entzogen. Inzwischen lebt er als profilierter Kritiker der repressiven Politik der gegenwärtigen Regierung Ortega/Murillo im Exil in Madrid. \nArmin Nufer liest aus drei Romanen von Sergio Ramirez  \n⦁ Margarita\, wie schön ist das Meer\n⦁ Strafe Gottes: Mehr als ein Kriminalroman\n⦁ Tongolele konnte nicht tanzen \nJorge Sepúlveda kommt mit Gitarre und Liedern aus Nicaragua dazu.
URL:https://agora-eg.de/event/lesung-armin-nufer-sergio-ramirez/
ATTACH;FMTTYPE=image/jpeg:https://agora-eg.de/wp-content/uploads/2024/03/2024-05-10-Armin-Nufer.jpg
END:VEVENT
END:VCALENDAR