BEGIN:VCALENDAR
VERSION:2.0
PRODID:-// - ECPv6.15.20//NONSGML v1.0//EN
CALSCALE:GREGORIAN
METHOD:PUBLISH
X-ORIGINAL-URL:https://agora-eg.de
X-WR-CALDESC:Veranstaltungen für 
REFRESH-INTERVAL;VALUE=DURATION:PT1H
X-Robots-Tag:noindex
X-PUBLISHED-TTL:PT1H
BEGIN:VTIMEZONE
TZID:Europe/Berlin
BEGIN:DAYLIGHT
TZOFFSETFROM:+0100
TZOFFSETTO:+0200
TZNAME:CEST
DTSTART:20230326T010000
END:DAYLIGHT
BEGIN:STANDARD
TZOFFSETFROM:+0200
TZOFFSETTO:+0100
TZNAME:CET
DTSTART:20231029T010000
END:STANDARD
BEGIN:DAYLIGHT
TZOFFSETFROM:+0100
TZOFFSETTO:+0200
TZNAME:CEST
DTSTART:20240331T010000
END:DAYLIGHT
BEGIN:STANDARD
TZOFFSETFROM:+0200
TZOFFSETTO:+0100
TZNAME:CET
DTSTART:20241027T010000
END:STANDARD
BEGIN:DAYLIGHT
TZOFFSETFROM:+0100
TZOFFSETTO:+0200
TZNAME:CEST
DTSTART:20250330T010000
END:DAYLIGHT
BEGIN:STANDARD
TZOFFSETFROM:+0200
TZOFFSETTO:+0100
TZNAME:CET
DTSTART:20251026T010000
END:STANDARD
END:VTIMEZONE
BEGIN:VEVENT
DTSTART;TZID=Europe/Berlin:20240524T200000
DTEND;TZID=Europe/Berlin:20240524T220000
DTSTAMP:20260423T171222
CREATED:20240222T122322Z
LAST-MODIFIED:20240222T122322Z
UID:2411-1716580800-1716588000@agora-eg.de
SUMMARY:Paul Janoschka & Max Clouth
DESCRIPTION:Paul Janoschka und Max Clouth erforschen Klangtexturen zwischen kammermusikalischem Jazz\, freier Improvisation und außereuropäischer Musik.\n \n \nPaul Janoschka ist als Jazz-Pianist und Komponist in vielen verschiedenen Bands und Ensembles tätig. 2019 absolvierte er sein Jazzpiano-Studium bei Prof. Rainer Böhm und Prof. Joerg Reiter an der Hochschule für Musik und Darstellende Kunst Mannheim. Anschließend ist er nach New York City gezogen\, wo er als Stipendiat des DAAD am City College of New York bei Kevin Hays und Fred Hersch kürzlich sein Master-Studium mit Bestnote abschloss. Als Pianist war er in New York in verschiedenen Bands Teil der dortigen Musik-Szene. Mittlerweile ist er in Frankfurt am Main wohnhaft. Paul Janoschka ist Preisträger des Yamaha Jazz Piano Wettbewerbs 2016 und war von 2016-2020 Stipendiat der Yehudi Menuhin Live Music Now Stiftung Rhein-Neckar. 2017 war er Finalist beim Internationalen Jazz-Contest Mechelen in Belgien. Paul Janoschka wurde 2018 als Teilnehmer für den internationalen Jazzworkshop Frauenfeld in der Schweiz unter Leitung von Donny McCaslin und Maria Schneider ausgewählt und war 2020 Projektstipendiat des Landes Rheinland-Pfalz. Seit mehr als 6 Jahren geht er mit seiner Band “kapelle17“ auf Tour; quer durch Deutschland und 2019 auch auf eine zweiwöchige Tournee durch Brasilien. Seit 2023 unterrichtet er Klavier am Jazzcampus Basel.\n \nMax Clouth\, geboren 1985 in Frankfurt\, studierte ab 2015 Jazzgitarre an der Hochschule für Musik Mainz bei Marc-Oliver Klenk und Norbert Scholly und von 2008 bis 2009 an der Hochschule für Musik Carl Maria von Weber in Dresden bei Ralf Beutler und Stephan Bormann. Anschließend nahm er von 2009 bis 2012 Unterricht bei Pandit Nayan Ghosh an der Sangit Mahabharati Music School Mumbai und bei Guitar Prasanna an der Swarnabhoomi Academy of Music. Max trat unter anderem mit Torsten de Winkel\, Indradeep Ghosh\, Luis Gallo\, Ishaan Ghosh\, Varijashree Venugopal\, Arto Tuncboyaciyan und Arijit Singh auf und spielte Gitarre bei zahlreichen Bollywood-Filmmusiken\, darunter „That Girl with Yellow Boots“\, „Ekk Main Aur Ek Tu“ und „Aiyyaa”. Außerdem komponierte er u.a. Musik für „Blue Summer Symphony“ (Regie: Sinje Köhler\, nominiert für den Studenten-Oscar) und „Masala Chai“ (Regie: Marco Hülser)\, zuletzt für „Geschichte im Ersten: Der lange Weg der Sinti und Roma“ (ARD\, 2022 – Adrian Oeser). Seine mit dem Gitarrenbauer Philipp Neumann entwickelten Doppelhalsgitarren basieren auf orientalischen und indischen Saiteninstrumenten wie Oud oder Sarod. Mit seiner Gruppe Ragawerk/Max Clouth Clan entwickelte er einen einzigartigen Musikstil\, der vom Mahavishnu Orchestra\, Kraftwerk\, Led Zeppelin sowie von indischer Musik und zeitgenössischer Elektronik inspiriert ist. Zusammen mit dem Frankfurter Elektro-Künstler Dan Bay veröffentlichte Max 2020 die EP „Voodoo Guitar“. Im April 2021 erschien die LP „Lucifer Drowning in a Sea of Light“\, auf dem Max mit der Cellistin Sophie-Justine Herr und Kabuki am Modular-Synthesizer zu hören ist.\n \n \nhttps://www.maxclouth.com/
URL:https://agora-eg.de/event/paul-janoschka-max-clouth/
ATTACH;FMTTYPE=image/png:https://agora-eg.de/wp-content/uploads/2024/02/03-Paul-Janoschka-Max-Clouth-PC-Rose-Defne--e1708604539425.png
ORGANIZER;CN="Agora bewegt e.V.":MAILTO:reservierung@agora-da.de
END:VEVENT
END:VCALENDAR