BEGIN:VCALENDAR
VERSION:2.0
PRODID:-// - ECPv6.15.20//NONSGML v1.0//EN
CALSCALE:GREGORIAN
METHOD:PUBLISH
X-ORIGINAL-URL:https://agora-eg.de
X-WR-CALDESC:Veranstaltungen für 
REFRESH-INTERVAL;VALUE=DURATION:PT1H
X-Robots-Tag:noindex
X-PUBLISHED-TTL:PT1H
BEGIN:VTIMEZONE
TZID:Europe/Berlin
BEGIN:DAYLIGHT
TZOFFSETFROM:+0100
TZOFFSETTO:+0200
TZNAME:CEST
DTSTART:20230326T010000
END:DAYLIGHT
BEGIN:STANDARD
TZOFFSETFROM:+0200
TZOFFSETTO:+0100
TZNAME:CET
DTSTART:20231029T010000
END:STANDARD
BEGIN:DAYLIGHT
TZOFFSETFROM:+0100
TZOFFSETTO:+0200
TZNAME:CEST
DTSTART:20240331T010000
END:DAYLIGHT
BEGIN:STANDARD
TZOFFSETFROM:+0200
TZOFFSETTO:+0100
TZNAME:CET
DTSTART:20241027T010000
END:STANDARD
BEGIN:DAYLIGHT
TZOFFSETFROM:+0100
TZOFFSETTO:+0200
TZNAME:CEST
DTSTART:20250330T010000
END:DAYLIGHT
BEGIN:STANDARD
TZOFFSETFROM:+0200
TZOFFSETTO:+0100
TZNAME:CET
DTSTART:20251026T010000
END:STANDARD
END:VTIMEZONE
BEGIN:VEVENT
DTSTART;TZID=Europe/Berlin:20240615T203000
DTEND;TZID=Europe/Berlin:20240615T203000
DTSTAMP:20260424T000621
CREATED:20240319T102404Z
LAST-MODIFIED:20240515T054720Z
UID:2498-1718483400-1718483400@agora-eg.de
SUMMARY:La Source Bleue
DESCRIPTION:LA SOURCE BLEUE feat. Tom Wolff und Daniel Schmitz\n \nNew Jazz Originals\, imaginäre Folklore und das Songbook von Steve Lacy sind die Markenzeichen dieser entspannt interagierenden Band um den Sopransaxophonisten Michael Bossong. Das Darmstädter Echo nannte sie „perfekte Kenner der Materie“ und  ein „eingespieltes Team\, das bestens aufeinander reagiert“. Sprachkünstler und Vokalist Tom Wolff fügt dem Bandsound seine expressiven und poetischen Lyrics hinzu und hat sich längst als essentieller Bestandteil der Band etabliert. Daniel Schmitz setzt mit seinem kraftvollen und lässigen Trompetensound eigene Impulse\, erweitert die Klangfarben des Quintetts und fügt sich perfekt in die offene und freisinnige Spielhaltung dieser Band. \nMichael Bossong\, Soprano Sax\nThomas Honecker\, Gitarre\nMichael Distelmann\, Bass\nBülent Ates\, Drums\nTom Wolff\, Vocals\nDaniel Schmitz\, Trompete \nLa Source Bleue – Jazz & Folklore imaginaire \n \n 
URL:https://agora-eg.de/event/la-source-bleue/
ATTACH;FMTTYPE=image/jpeg:https://agora-eg.de/wp-content/uploads/2024/03/2024-06-15-LaSourceBleue-c-Werner-Lesser.jpg
END:VEVENT
END:VCALENDAR