BEGIN:VCALENDAR
VERSION:2.0
PRODID:-// - ECPv6.15.20//NONSGML v1.0//EN
CALSCALE:GREGORIAN
METHOD:PUBLISH
X-ORIGINAL-URL:https://agora-eg.de
X-WR-CALDESC:Veranstaltungen für 
REFRESH-INTERVAL;VALUE=DURATION:PT1H
X-Robots-Tag:noindex
X-PUBLISHED-TTL:PT1H
BEGIN:VTIMEZONE
TZID:Europe/Paris
BEGIN:DAYLIGHT
TZOFFSETFROM:+0100
TZOFFSETTO:+0200
TZNAME:CEST
DTSTART:20230326T010000
END:DAYLIGHT
BEGIN:STANDARD
TZOFFSETFROM:+0200
TZOFFSETTO:+0100
TZNAME:CET
DTSTART:20231029T010000
END:STANDARD
BEGIN:DAYLIGHT
TZOFFSETFROM:+0100
TZOFFSETTO:+0200
TZNAME:CEST
DTSTART:20240331T010000
END:DAYLIGHT
BEGIN:STANDARD
TZOFFSETFROM:+0200
TZOFFSETTO:+0100
TZNAME:CET
DTSTART:20241027T010000
END:STANDARD
BEGIN:DAYLIGHT
TZOFFSETFROM:+0100
TZOFFSETTO:+0200
TZNAME:CEST
DTSTART:20250330T010000
END:DAYLIGHT
BEGIN:STANDARD
TZOFFSETFROM:+0200
TZOFFSETTO:+0100
TZNAME:CET
DTSTART:20251026T010000
END:STANDARD
END:VTIMEZONE
BEGIN:VEVENT
DTSTART;TZID=Europe/Paris:20240621T180000
DTEND;TZID=Europe/Paris:20240621T200000
DTSTAMP:20260423T185039
CREATED:20230922T143538Z
LAST-MODIFIED:20240610T143655Z
UID:959-1718992800-1719000000@agora-eg.de
SUMMARY:Häppi Hour Darmstädter-Wohnprojekte
DESCRIPTION:Obwohl derzeit AGORA das Lokal geschlossen ist\, macht es heute für die „Häppi Hour der Darmstädter Wohnprojekte“ auf; zumindestens für Getränke ist gesorgt \nHier findet zum einen ein anregender Austausch zwischen schon in einem Projekt wohnenden Menschen statt und neu Interessierte können sich dort auch unverbindlich zum Kennenlernen und Informieren im Zusammenhang mit Gemeinschaftlichem Wohnen treffen. Eine Anmeldung ist nicht nötig. Einfach kommen und reinschnuppern. \nWir freuen uns auf Euch! \n21. Juni 2024 ab 18:00 Uhr in den Räumlichkeiten von AGORA das LOKAL
URL:https://agora-eg.de/event/darmstaedter-wohnprojekte-haeppi-hour-fuer-neuinteressierte-und-alte-hasen/
ATTACH;FMTTYPE=image/jpeg:https://agora-eg.de/wp-content/uploads/2023/09/haeppi_hour-scaled-e1700727594507.jpg
END:VEVENT
END:VCALENDAR