BEGIN:VCALENDAR
VERSION:2.0
PRODID:-// - ECPv6.15.20//NONSGML v1.0//EN
CALSCALE:GREGORIAN
METHOD:PUBLISH
X-ORIGINAL-URL:https://agora-eg.de
X-WR-CALDESC:Veranstaltungen für 
REFRESH-INTERVAL;VALUE=DURATION:PT1H
X-Robots-Tag:noindex
X-PUBLISHED-TTL:PT1H
BEGIN:VTIMEZONE
TZID:Europe/Berlin
BEGIN:DAYLIGHT
TZOFFSETFROM:+0100
TZOFFSETTO:+0200
TZNAME:CEST
DTSTART:20230326T010000
END:DAYLIGHT
BEGIN:STANDARD
TZOFFSETFROM:+0200
TZOFFSETTO:+0100
TZNAME:CET
DTSTART:20231029T010000
END:STANDARD
BEGIN:DAYLIGHT
TZOFFSETFROM:+0100
TZOFFSETTO:+0200
TZNAME:CEST
DTSTART:20240331T010000
END:DAYLIGHT
BEGIN:STANDARD
TZOFFSETFROM:+0200
TZOFFSETTO:+0100
TZNAME:CET
DTSTART:20241027T010000
END:STANDARD
BEGIN:DAYLIGHT
TZOFFSETFROM:+0100
TZOFFSETTO:+0200
TZNAME:CEST
DTSTART:20250330T010000
END:DAYLIGHT
BEGIN:STANDARD
TZOFFSETFROM:+0200
TZOFFSETTO:+0100
TZNAME:CET
DTSTART:20251026T010000
END:STANDARD
END:VTIMEZONE
BEGIN:VEVENT
DTSTART;TZID=Europe/Berlin:20240817T200000
DTEND;TZID=Europe/Berlin:20240817T200000
DTSTAMP:20260424T000551
CREATED:20240606T195958Z
LAST-MODIFIED:20240730T123712Z
UID:2647-1723924800-1723924800@agora-eg.de
SUMMARY:TRIOLE - ukrainisch-russisch-polnische Balkan-Fusion
DESCRIPTION:Das Highlight des Agora-Sommers! \nTriOle spielen eine perfekte ukrainisch-(bela)russisch-polnische Fusion aus westeuropäischen Einflüssen und osteuropäischen Balkanklängen. Viele haben sie letztes Jahr begeistert erlebt. Wenn fast jede:r wieder kommt und noch jemanden mitbringt\, könnte es ganz schön voll werden. \nViele kennen die wunderbare Musik des Cirque Bouffon. Diese stammt aus der Feder des Komponisten Sergej Sweschinski. Als TriOle & Friends präsentiert er nun gemeinsam mit seinen Musikkolleg:innen das sich immer wieder verändernde Programm Syno\, ohne den Zirkus\, aber mit Musik pur. \nSyno\, das ist „Heiterkeit“ oder „Lebensfreude“ und beschreibt die Leidenschaft\, die die Musik von TriOle & Friends entfacht. Wir konnten ihre Lebensfreude und ihren Spaß an der Musik bei Agora schon fasziniert erleben. Die besondere Dynamik und Stimmung der vier virtuosen Musiker mit ihrem ganz eigenen musikalischen Stil\, einer perfekten Fusion aus westeuropäischen Einflüssen und osteuropäischen Balkanklängen\, begeistert das Publikum ab dem ersten Stück. \nTriOle & Friends entführen die Zuschauer in eine musikalische Welt voller poetischer Bilder\, zarter Wildheit und clownesker Soli\, die das Herz berührt. \nEin mitreißendes Konzerterlebnis mit beeindruckend virtuosen\, klassisch ausgebildeten Musiker:innen\, die man nie wieder vergisst! Das Quartett ergänzt sich auf der Bühne perfekt: \nSergej Sweschinski – Kontrabass | Adam Tomaschewski – Xylophon & Marimba & Percussion | Nastja Schkinder – Akkordeon | Jana Mishenina – Geige & Gesang \n \nhttps://triole-band.de
URL:https://agora-eg.de/event/triole-ukrainisch-russisch-polnisch/
ATTACH;FMTTYPE=image/jpeg:https://agora-eg.de/wp-content/uploads/2024/06/2024-08-17_TriOle-scaled-e1719056508500.jpg
END:VEVENT
END:VCALENDAR