BEGIN:VCALENDAR
VERSION:2.0
PRODID:-// - ECPv6.15.20//NONSGML v1.0//EN
CALSCALE:GREGORIAN
METHOD:PUBLISH
X-ORIGINAL-URL:https://agora-eg.de
X-WR-CALDESC:Veranstaltungen für 
REFRESH-INTERVAL;VALUE=DURATION:PT1H
X-Robots-Tag:noindex
X-PUBLISHED-TTL:PT1H
BEGIN:VTIMEZONE
TZID:Europe/Berlin
BEGIN:DAYLIGHT
TZOFFSETFROM:+0100
TZOFFSETTO:+0200
TZNAME:CEST
DTSTART:20230326T010000
END:DAYLIGHT
BEGIN:STANDARD
TZOFFSETFROM:+0200
TZOFFSETTO:+0100
TZNAME:CET
DTSTART:20231029T010000
END:STANDARD
BEGIN:DAYLIGHT
TZOFFSETFROM:+0100
TZOFFSETTO:+0200
TZNAME:CEST
DTSTART:20240331T010000
END:DAYLIGHT
BEGIN:STANDARD
TZOFFSETFROM:+0200
TZOFFSETTO:+0100
TZNAME:CET
DTSTART:20241027T010000
END:STANDARD
BEGIN:DAYLIGHT
TZOFFSETFROM:+0100
TZOFFSETTO:+0200
TZNAME:CEST
DTSTART:20250330T010000
END:DAYLIGHT
BEGIN:STANDARD
TZOFFSETFROM:+0200
TZOFFSETTO:+0100
TZNAME:CET
DTSTART:20251026T010000
END:STANDARD
END:VTIMEZONE
BEGIN:VEVENT
DTSTART;TZID=Europe/Berlin:20240907T140000
DTEND;TZID=Europe/Berlin:20240907T180000
DTSTAMP:20260424T000553
CREATED:20240730T230639Z
LAST-MODIFIED:20240731T120853Z
UID:2733-1725717600-1725732000@agora-eg.de
SUMMARY:9. DARMSTÄDTER WOHNPROJEKTETAG
DESCRIPTION:Gemeinschaftliches Wohnen im Dialog. \nImpulse für nachhaltiges Planen und Bauen. \nDer nächste\, 9. Wohnprojektetag Darmstadt findet am 07.09.2024 von 14 -18 Uhr im Justus-Liebig-Haus und davor statt. Organisiert wird er von den Darmstädter Wohnprojekten. \nGemeinschaftliche Wohnprojekte\, Koordinationstelle und Förderverein stellen sich vor.  Das Rotzfreche Spielmobil wartet auf Kinder.  Geladene Gäste treten in Dialog. \nDie Wohnprojekte bieten auch diesem Sommer und Herbst wieder Besichtigungen an. Unter ‚Aktuelles‘ gibt es Termine.
URL:https://agora-eg.de/event/9-darmstaedter-wohnprojektetag-im-justus-liebig-haus/
LOCATION:Justus-Liebig-Haus\, Darmstadt
ATTACH;FMTTYPE=image/jpeg:https://agora-eg.de/wp-content/uploads/2024/07/2024-09-07-Wohnprojektetag-Darmstadt-e1725607247178.jpg
END:VEVENT
END:VCALENDAR