BEGIN:VCALENDAR
VERSION:2.0
PRODID:-// - ECPv6.15.20//NONSGML v1.0//EN
CALSCALE:GREGORIAN
METHOD:PUBLISH
X-ORIGINAL-URL:https://agora-eg.de
X-WR-CALDESC:Veranstaltungen für 
REFRESH-INTERVAL;VALUE=DURATION:PT1H
X-Robots-Tag:noindex
X-PUBLISHED-TTL:PT1H
BEGIN:VTIMEZONE
TZID:Europe/Berlin
BEGIN:DAYLIGHT
TZOFFSETFROM:+0100
TZOFFSETTO:+0200
TZNAME:CEST
DTSTART:20240331T010000
END:DAYLIGHT
BEGIN:STANDARD
TZOFFSETFROM:+0200
TZOFFSETTO:+0100
TZNAME:CET
DTSTART:20241027T010000
END:STANDARD
BEGIN:DAYLIGHT
TZOFFSETFROM:+0100
TZOFFSETTO:+0200
TZNAME:CEST
DTSTART:20250330T010000
END:DAYLIGHT
BEGIN:STANDARD
TZOFFSETFROM:+0200
TZOFFSETTO:+0100
TZNAME:CET
DTSTART:20251026T010000
END:STANDARD
BEGIN:DAYLIGHT
TZOFFSETFROM:+0100
TZOFFSETTO:+0200
TZNAME:CEST
DTSTART:20260329T010000
END:DAYLIGHT
BEGIN:STANDARD
TZOFFSETFROM:+0200
TZOFFSETTO:+0100
TZNAME:CET
DTSTART:20261025T010000
END:STANDARD
END:VTIMEZONE
BEGIN:VEVENT
DTSTART;TZID=Europe/Berlin:20250531T200000
DTEND;TZID=Europe/Berlin:20250531T200000
DTSTAMP:20260424T101819
CREATED:20250307T160445Z
LAST-MODIFIED:20250307T160539Z
UID:3183-1748721600-1748721600@agora-eg.de
SUMMARY:XILOA - Lateinamerikanisch Akustisch
DESCRIPTION:Lateinamerikanisch Akustisch. Folk\, Pop und Rumba-Rhythmen. Mit wunderschönen Songs über die Liebe und das Leben führen uns die drei Musiker:innen mit Latinofeeling durch ihre eigene musikalische Bewunderung und Interpretation der Weltschönheit. \nCristian González aus Spanien an der Perkussion und Samuel Arango aus Kolumbien an der Gitarre begleiten die peruanische Sängerin und Gitarristin Yuri Pumahualca\, deren zweiter Vorname Xiloa ist\, der Name eines mittelamerikanischen Sees. \nhttps://www.instagram.com › yuri_pumahualca \nEintritt frei – Spenden willkommen –  reservierung@agora-da.de  –  Sa. 31. Mai 2025 – 20:00  –  Agora-Kultur am Ostbahnhof in Darmstadt
URL:https://agora-eg.de/event/xiloa-lateinamerikanisch-akustisch/
ATTACH;FMTTYPE=image/jpeg:https://agora-eg.de/wp-content/uploads/2025/03/2025-05-31_Xiloa-scaled-e1741300914557.jpeg
END:VEVENT
END:VCALENDAR