BEGIN:VCALENDAR
VERSION:2.0
PRODID:-// - ECPv6.15.20//NONSGML v1.0//EN
CALSCALE:GREGORIAN
METHOD:PUBLISH
X-ORIGINAL-URL:https://agora-eg.de
X-WR-CALDESC:Veranstaltungen für 
REFRESH-INTERVAL;VALUE=DURATION:PT1H
X-Robots-Tag:noindex
X-PUBLISHED-TTL:PT1H
BEGIN:VTIMEZONE
TZID:Europe/Berlin
BEGIN:DAYLIGHT
TZOFFSETFROM:+0100
TZOFFSETTO:+0200
TZNAME:CEST
DTSTART:20240331T010000
END:DAYLIGHT
BEGIN:STANDARD
TZOFFSETFROM:+0200
TZOFFSETTO:+0100
TZNAME:CET
DTSTART:20241027T010000
END:STANDARD
BEGIN:DAYLIGHT
TZOFFSETFROM:+0100
TZOFFSETTO:+0200
TZNAME:CEST
DTSTART:20250330T010000
END:DAYLIGHT
BEGIN:STANDARD
TZOFFSETFROM:+0200
TZOFFSETTO:+0100
TZNAME:CET
DTSTART:20251026T010000
END:STANDARD
BEGIN:DAYLIGHT
TZOFFSETFROM:+0100
TZOFFSETTO:+0200
TZNAME:CEST
DTSTART:20260329T010000
END:DAYLIGHT
BEGIN:STANDARD
TZOFFSETFROM:+0200
TZOFFSETTO:+0100
TZNAME:CET
DTSTART:20261025T010000
END:STANDARD
END:VTIMEZONE
BEGIN:VEVENT
DTSTART;TZID=Europe/Berlin:20250809T200000
DTEND;TZID=Europe/Berlin:20250809T200000
DTSTAMP:20260422T152452
CREATED:20250528T211837Z
LAST-MODIFIED:20250528T213143Z
UID:3316-1754769600-1754769600@agora-eg.de
SUMMARY:KABBARATZ "Zähne wie Sterne\, nachts kommen sie raus"
DESCRIPTION:Zähne wie Sterne: nachts kommen sie raus!  Das Seniorprogramm \nAngeblich sieht man mit dem zweiten besser. Ob man mit den dritten besser beißt? Evelyn Wendler und Peter Hoffmann sind in ihrem Leben noch nie so vielen jüngeren Menschen begegnet. Und es werden Jahr für Jahr mehr. Von wegen alternde Gesellschaft. Während die Jahre gingen sind die beiden in die Jahre gekommen. Kabarettistisch sind die beiden nach wie vor auf der Höhe der Zeit – auch wenn die Zeiten unterirdisch sind. Immerhin hat der Seniorchef nach wie vor mehr zu sagen als der Juniorchef.  \nIn seinem 35. Programm beschäftigt sich Kabbaratz mit dem Alter: also ihrem eigenen. Vielleicht aber auch mit dem des Publikums. Das gilt ja schon für die Ü-30-Generation: Weniger Aussichten\, mehr Einsichten. Aber die alten Hasen wissen jetzt schon: es kann immer noch besser werden – nur nicht jünger. \n \nhttps://kabbaratz.de/ \nEintritt 18€\, ermäßigt 12€  –  reservierung@agora-da.de  –  Sa. 9. August 2025 – 20:00  –  Agora-Kultur am Ostbahnhof in Darmstadt  –  Tickets im Restaurant Butter & Blume
URL:https://agora-eg.de/event/kabbaratz-zaehne-wie-sterne-nachts-kommen-sie-raus/
ATTACH;FMTTYPE=image/jpeg:https://agora-eg.de/wp-content/uploads/2025/05/2025-08-09_Kabbaratz_Zaehne-wie-Sterne-nachts-kommen-sie-raus.jpeg
END:VEVENT
END:VCALENDAR