BEGIN:VCALENDAR
VERSION:2.0
PRODID:-// - ECPv6.15.20//NONSGML v1.0//EN
CALSCALE:GREGORIAN
METHOD:PUBLISH
X-ORIGINAL-URL:https://agora-eg.de
X-WR-CALDESC:Veranstaltungen für 
REFRESH-INTERVAL;VALUE=DURATION:PT1H
X-Robots-Tag:noindex
X-PUBLISHED-TTL:PT1H
BEGIN:VTIMEZONE
TZID:Europe/Berlin
BEGIN:DAYLIGHT
TZOFFSETFROM:+0100
TZOFFSETTO:+0200
TZNAME:CEST
DTSTART:20240331T010000
END:DAYLIGHT
BEGIN:STANDARD
TZOFFSETFROM:+0200
TZOFFSETTO:+0100
TZNAME:CET
DTSTART:20241027T010000
END:STANDARD
BEGIN:DAYLIGHT
TZOFFSETFROM:+0100
TZOFFSETTO:+0200
TZNAME:CEST
DTSTART:20250330T010000
END:DAYLIGHT
BEGIN:STANDARD
TZOFFSETFROM:+0200
TZOFFSETTO:+0100
TZNAME:CET
DTSTART:20251026T010000
END:STANDARD
BEGIN:DAYLIGHT
TZOFFSETFROM:+0100
TZOFFSETTO:+0200
TZNAME:CEST
DTSTART:20260329T010000
END:DAYLIGHT
BEGIN:STANDARD
TZOFFSETFROM:+0200
TZOFFSETTO:+0100
TZNAME:CET
DTSTART:20261025T010000
END:STANDARD
END:VTIMEZONE
BEGIN:VEVENT
DTSTART;TZID=Europe/Berlin:20250918T200000
DTEND;TZID=Europe/Berlin:20250918T200000
DTSTAMP:20260420T135009
CREATED:20250612T150027Z
LAST-MODIFIED:20250612T151920Z
UID:3351-1758225600-1758225600@agora-eg.de
SUMMARY:FREIBURGER THEATER COMPAGNIE  "Love and Error"
DESCRIPTION:LOVE AND ERROR – Ein Spiel um die Facetten der Liebe\nEin Spiel um die Facetten der Liebe mit all ihrer Verzückung\, aber auch deren sonderbaren Blüten\, die die Liebe treibt\, Fehltritte und Verzweiflungstaten. Lassen Sie sich von dem kleinen Engel Amor\, dem Liebes-Bengel\, entführen\, verwirren\, betören\, erheitern\, verzaubern … und mit sehr unterschiedlichen Geschichten\, Gedichten\, Tänzen\, Songs und Theater nicht ohne Hiebe\, Spott\, gar Galgenhumor\, an der Nase herum führen! \nFREIBURGER THEATER COMPAGNIE \n \nBernd Lafrenz\nfreischaffender Schauspieler mit Wohnsitz in Ehrenkirchen bei Freiburg\, spielt seit vielen Jahren erfolgreich seine 11 Shakespeare Soloprogramme in Deutschland\, der Schweiz und Frankreich.\nAuszeichnungen: Ehren und Kleinkunstpreis Baden Württemberg\, Regio Förderpreis\, Theaterpreis des Internationalen Theater festivals St. Vith\, Publikumspreis des Internationalen Theaterfestivals Radebeul\, Publikumspreis der Stuttgarter Zeitung\, Einladung zu vielen Festivals u. a. nach Monaco\, Cannes\, Avignon\, Périgueux\, Wien\, Berlin\, Hannover EXPO 2000\, Weimarer Shakespeare Tage\, Shakespeare Festival Carqueirannes …\nMehr unter: www.lafrenz.de \nChristine Kallfaß\nstudierte Rhythmik an der Musikhochschule Detmold und Schauspiel an der Hochschule für Musik und Darstellende Kunst in Graz. Sie hat Auftritte mit Improvisationen am Piano\, Stimmartistik\, Bewegung und Texten und kooperiert mit unterschiedlichen Künstlern\, dabei entstehen Performances in Verbindung mit Musik\, Theater\, Film und Bildender Kunst. Sie ist Dozentin für Schauspiel und gründete das Theater >K< (u.a. „Prisma … ein Farb und Klangspiel“/„Park or Fly“/„Frühstück im Regency“/„Die unsichtbare Freundin“). Sie ist Regisseurin und Schauspielerin für Theater und Film.\nMehr unter: www.christinekallfass.de \nNicole Djandji-Stahl\nIn Heidelberg geboren\, studierte dort Theaterpädagogik\, dann ging es für‘s Schauspielstudium ins schöne Freiburg. Außer in der „Freiburger Theater Compagnie“ ist sie Mitglied der Improvisationstheatergruppe „Freistil“\, ist in verschiedenen Theaterproduktionen zu sehen („Die unsichtbare Freundin“\, „Woyzeck“\, „Das Siechenhaus“ etc.)\, ist freie Erzählerin und in szenischen Lesungen („Wovon man schweigen muss\, darüber kann man Briefe schreiben“/Wallgraben Theater\, Shuttle Lesungen etc.) zu erleben.\nMehr unter: www.zeitweisezeitreisende.de/nicole djandjistahl \nOlaf Creutzburg\nNach seiner Ausbildung in Berlin führten ihn seine Wanderjahre auf die Bühnen folgender Städte: Bruchsal\, Düsseldorf\, Essen\, Leipzig\, Dresden und Halle a. d. Saale. Im Jahr 2000 verschlug es ihn nach Freiburg\, wo er seitdem seinen Lebensmittelpunkt und seine Familie hat. Er macht ständig Theater – auch im Film\, z.B. bei den Fallers\, Wolffs Revier der Stadtklinik oder in anderen Produktionen. Oft zu hören bei arte. Er ist zwar nicht bestechlich\, aber käuflich.\nNäheres unter: www.olaf creutzburg.de \nEintritt 20€\, ermäßigt 13€  –  reservierung@agora-da.de  –  Do. 18. September 2025 – 20:00  –  Agora-Kultur am Ostbahnhof in Darmstadt  –  Tickets im Restaurant Butter & Blume\, im DA-Shop im Luisencenter und über ztix
URL:https://agora-eg.de/event/freiburger-theater-compagnie-love-and-error/
ATTACH;FMTTYPE=image/png:https://agora-eg.de/wp-content/uploads/2025/06/2025-09-18_FTC_Love-and-Error.png
END:VEVENT
END:VCALENDAR