BEGIN:VCALENDAR
VERSION:2.0
PRODID:-// - ECPv6.15.20//NONSGML v1.0//EN
CALSCALE:GREGORIAN
METHOD:PUBLISH
X-ORIGINAL-URL:https://agora-eg.de
X-WR-CALDESC:Veranstaltungen für 
REFRESH-INTERVAL;VALUE=DURATION:PT1H
X-Robots-Tag:noindex
X-PUBLISHED-TTL:PT1H
BEGIN:VTIMEZONE
TZID:Europe/Berlin
BEGIN:DAYLIGHT
TZOFFSETFROM:+0100
TZOFFSETTO:+0200
TZNAME:CEST
DTSTART:20230326T010000
END:DAYLIGHT
BEGIN:STANDARD
TZOFFSETFROM:+0200
TZOFFSETTO:+0100
TZNAME:CET
DTSTART:20231029T010000
END:STANDARD
BEGIN:DAYLIGHT
TZOFFSETFROM:+0100
TZOFFSETTO:+0200
TZNAME:CEST
DTSTART:20240331T010000
END:DAYLIGHT
BEGIN:STANDARD
TZOFFSETFROM:+0200
TZOFFSETTO:+0100
TZNAME:CET
DTSTART:20241027T010000
END:STANDARD
BEGIN:DAYLIGHT
TZOFFSETFROM:+0100
TZOFFSETTO:+0200
TZNAME:CEST
DTSTART:20250330T010000
END:DAYLIGHT
BEGIN:STANDARD
TZOFFSETFROM:+0200
TZOFFSETTO:+0100
TZNAME:CET
DTSTART:20251026T010000
END:STANDARD
END:VTIMEZONE
BEGIN:VEVENT
DTSTART;TZID=Europe/Berlin:20240404T193000
DTEND;TZID=Europe/Berlin:20240404T213000
DTSTAMP:20260423T120432
CREATED:20240311T082933Z
LAST-MODIFIED:20240312T205529Z
UID:2452-1712259000-1712266200@agora-eg.de
SUMMARY:Spielfilm in Kooperation mit der Initiative Hofgut
DESCRIPTION:In Kooperation mit der Initiative Hofgut zeigen wir einen Spielfilm. \nEin junger Lehrer aus einem kleinen Land im Himalaya  träumt von einer Karriere als Sänger. In seinem letzten Ausbildungsjahr wird er in eine Schule in einer sehr abgelegenen Region seines Landes versetzt. Widerwillig akzeptiert er diese Entscheidung. Die Erfahrungen mit den Kindern in der Schule und der Dorfgemeinschaft verändern langsam seine Einstellung. Er beginnt zu begreifen\, was es bedeutet\, ein guter Lehrer zu sein. Dabei erkennt er\, dass Glück nicht wirklich ein Ziel ist\, sondern der Weg dorthin. \nOriginalsprache mit deutschen Untertiteln \nDonnerstag\, 04. April 2024   Eintritt frei Spenden willkommen
URL:https://agora-eg.de/event/ein-spielfilm-in-kooperation-mit-der-initiative-hofgut/
ATTACH;FMTTYPE=image/jpeg:https://agora-eg.de/wp-content/uploads/2023/03/csm_Filmkreis_Oberfeld_-_Agora_453f46c528.jpg
END:VEVENT
BEGIN:VEVENT
DTSTART;TZID=Europe/Berlin:20240412T200000
DTEND;TZID=Europe/Berlin:20240412T200000
DTSTAMP:20260423T120432
CREATED:20240208T222747Z
LAST-MODIFIED:20240219T151951Z
UID:2358-1712952000-1712952000@agora-eg.de
SUMMARY:EPI K PARADOX - Blues aus Kreta
DESCRIPTION:Dieser Abend könnte für Bluesfreunde EPIsch werden. Denn es gastiert im April einer der besten Bluesmusiker Europas erstmalig in Deutschland. Schon Epimenidis‘ Stimme und E-Gitarre alleine wären ein Highlight\, noch besser ist es für den richtigen Blues-Sound mit seinen Mitmusikern an Piano\, Bass und Schlagzeug. \nDer Sänger\, Songwriter\, Gitarrist und Produzent Epi K. Paradox stammt aus Chania\, verließ jedoch das sonnendurchflutete Kreta\, um seine Musikkarriere in London fortzusetzen. Dort ließ er sich von der britischen Blues-Explosion der späten 60er und frühen 70er Jahre inspirieren und fand schließlich seinen eigenen Stil zeitgenössischer Bluesmusik. Er schloss sein Studium am London College of Music 2018 ab\, nahm die ersten Platten auf und belebte die englische Bühnenlandschaft. \nEpi Ks Stil erinnert an Buddy Guy\, Mike Bloomfield\, Jimmy Page und Roy Buchanan\, während sein Songwriting an die Rhythm&Blues-Ära anknüpft. Nach seinem ersten Album „I’ll Take the Long Road“ von 2019 erschien im Januar letzten Jahres „Gentle Storm“\, mit dem Epi 2023 erfolgreich in Griechenland und England tourte. Im Frühjahr 2024 möchte Epi sich in Deutschland\, Österreich und der Schweiz vorstellen – in den Ländern\, die er bislang „überflog“. \nEpimenidis Koutsaftakis – Gitarre\, Gesang | Dimitris Dimopoulos – Piano | Lefteris Papadakis – Bass | Lorenzo Riessler – Drums \nepikparadox.com \nTickets: reservierung@agora-da.de
URL:https://agora-eg.de/event/epi-k-paradox-blues-aus-kreta-darmstadt/
ATTACH;FMTTYPE=image/jpeg:https://agora-eg.de/wp-content/uploads/2024/02/2024-04-12-Epi-K-scaled-e1707431733605.jpg
END:VEVENT
BEGIN:VEVENT
DTSTART;TZID=Europe/Berlin:20240414T200000
DTEND;TZID=Europe/Berlin:20240414T200000
DTSTAMP:20260423T120432
CREATED:20240312T212305Z
LAST-MODIFIED:20240312T225224Z
UID:2466-1713124800-1713124800@agora-eg.de
SUMMARY:JUTTA SYBILLE SCHÜTZ & STEFAN HLADEK - Lesung "Seelenvulkan"
DESCRIPTION:Jutta Sybille Schütz liest aus ihrem Roman „Seelenvulkan“\, musikalisch begleitet von Stefan Hladek\, Gitarre\n(mit Diskussion) \nEine Depression ist ein ZU-Stand\, Betroffene sind wie gelähmt. Wie könnte man darüber einen spannenden Roman schreiben? Die Darmstädter Autorin Jutta Sybille Schütz hat es gewagt. Ihr beim Darmstädter Ulrich Diehl Verlag erschienener Roman „Seelenvulkan“ spielt in Mexiko und in Hessen\, hier vor allem in der Psychiatrie. \nZum Inhalt: Romanheldin Vera liebt Vulkane seit ihrer Kindheit in Mexiko. Später erforscht sie die Feuerberge\, bis ihr ein Ausbruch zum Verhängnis wird. Nach ihrer Rettung kann sie sich nicht an Details erinnern. Trägt sie Schuld am Tod anderer Menschen? Das Trauma führt sie in die Psychiatrie. Diagnose: schwere Depression. Sie fühlt sich selbst wie ein erstarrter Vulkan\, der manchmal wieder ausbricht. Gelingt es ihr\, aus diesem Höllenkrater wieder auszubrechen? \nBiografien: \nJutta Sybille Schütz wuchs in Darmstadt auf. Sie studierte Politikwissenschaft\, Soziologie und Völkerkunde in Tübingen und promovierte in Mainz. Sie arbeitete als freie Journalistin\, Autorin und Lektorin von Reiseführern. Ausgedehnte Recherche-Reisen führten sie vor allem nach Mexiko. Mit diesem Buch legte sie ihren ersten Roman vor. Sie lebt heute wieder in Darmstadt und geht für Radio Darmstadt auf Sendung. \nStefan Hladek studierte Klassische Gitarre bei Olaf Van Gonnissen und an der Londoner Royal Academy of Music. In seiner Konzertlaufbahn erhielt er internationale Auszeichnungen als Solist\, aber auch im Gitarrenduo mit Rudi Weinacker oder der Sängerin Susanne Hladek-Bach. Jahrelang konzertierte er mit dem Barrios Guitar Quartet. 2023 hat er sein Jazzprojekt „Free for Change“ mit Konzerten\, einer CD und auf Vinyl vorgestellt. \nAusschnitte aus der Presse \n​„Das Bild des Vulkans verwendet Schütz als Symbol für die Depression. Denn die Lava erstarre nach dem Ausbruch nicht nur\, sondern die entstehende Vulkanerde sei auch sehr fruchtbar und lasse Neues wachsen.“ (Frankfurter Rundschau) \n​„Schütz verknüpft mit dem Roman zwei Themen\, die sie selbst auf die eine oder andere Weise durch ihr eigenes Leben begleiten. Als Reisejournalistin hat sie nicht nur Reiseführer über das Land Mexiko geschrieben\, sondern ist vor einigen Jahren selbst an einer schweren Depression erkrankt\, ist auch hier »Erfahrungs­expertin«\, wie sie sich selbst bezeichnet.“ (Gießener Anzeiger) \n„Ich habe das Buch in einem Rutsch durchgelesen. Es ist ein fesselnder Roman. Der Autorin ist es wunderbar gelungen\, das Thema Depressionen mit all den Facetten\, die diese Erkrankung hergibt\, darzustellen.“ (Deutsche Depressionsliga\, Rezension von Mechthild Strahler) \nhttps://www.jutta-sybille-schuetz.de \n​
URL:https://agora-eg.de/event/jutta-sybille-schuetz-stefan-hladek-lesung-seelenvulkan/
ATTACH;FMTTYPE=image/jpeg:https://agora-eg.de/wp-content/uploads/2024/03/2024-04-14_JuttaSchuetz_StefanHladek-quer.jpeg
END:VEVENT
BEGIN:VEVENT
DTSTART;TZID=Europe/Berlin:20240419T200000
DTEND;TZID=Europe/Berlin:20240419T220000
DTSTAMP:20260423T120432
CREATED:20240212T202849Z
LAST-MODIFIED:20240219T151907Z
UID:2389-1713556800-1713564000@agora-eg.de
SUMMARY:OLIVER JAEGER  "Sternenklang über dem Atlantik"  eine musikalische Weltreise
DESCRIPTION:Unter ein und dem selben Sternenhimmel liegen Sevilla und Lissabon – in Westeuropa. In Südamerika sind es Buenos Aires und Rio de Janeiro. Seit Jahrhunderten beeinflussen sich die Bewohner kulturell wechselseitig über den Atlantik hin. An den Ufern dieser Städte entstehen Flamenco\, Fado\, Tango und Bossa Nova. Gemeinsam teilen sie Sehnsucht\, Freude\, Melancholie\, und Verbundenheit mit der Heimat. \nIn seinem Programm „Sternenklang über dem Atlantik“ spielt Oliver Jaeger neben spanischer Gitarre die – im wahrsten Sinne des Wortes – einzigartige Symphonetta. Dieses akkordeonähnliche Instrument war noch bis in die 1930 Jahre populär\, ist jedoch in Vergessenheit geraten. Als Solist auf beiden Instrumenten vereint er verschiedene Musikstile voller Freude und Leidenschaften zu einer spannenden und abwechslungsreichen Darbietung. \n 
URL:https://agora-eg.de/event/oliver-jaeger-eine-musikalische-weltreise/
ATTACH;FMTTYPE=image/jpeg:https://agora-eg.de/wp-content/uploads/2024/02/oliver_jaeger_symphonetta_gitarre_hoch_4343-e1707769720599.jpg
ORGANIZER;CN="Agora bewegt e.V.":MAILTO:reservierung@agora-da.de
END:VEVENT
BEGIN:VEVENT
DTSTART;TZID=Europe/Berlin:20240426T200000
DTEND;TZID=Europe/Berlin:20240426T200000
DTSTAMP:20260423T120432
CREATED:20240212T174629Z
LAST-MODIFIED:20240219T150521Z
UID:2382-1714161600-1714161600@agora-eg.de
SUMMARY:ABDUL JABBER - Frauen in Indien und Bangladesch
DESCRIPTION:Abdul Jabber ist in einem Flüchtlingsdorf in Bangladesch aufgewachsen und widmet sich als freier Schriftsteller vor allem dem Thema Diskriminierung von Mädchen und Frauen in seinem Heimatland. Er lebt in Oldenburg und engagiert sich mit seinem Verein Deutsch-Bengalische Kinderhilfe e.V. für verschiedene Bildungsprojekte in Bangladesch. Diese Veranstaltung in Kooperation mit dem Weltladen Darmstadt (Werkstatt Globales Lernen) hat zwei Teile: \nVortrag zur aktuellen Situation von Textilarbeiterinnen in Bangladesch und Indien:  „Träume werden durchs Lernen wahr“ \nLesung aus Abdul Jabbers Roman:  „Die Geschichte der goldenen Frauen“ \n„Die Geschichte der goldenen Frauen“ handelt von den vier Protagonistinnen Eva\, Kali\, Bishakha und Mary\, die den vier Hauptreligionen des indischen Subkontinents angehören. Sie werden als Ärmste der Armen geschildert\, die mit allen Formen von Diskriminierung der patriarchalischen Gesellschaft leben müssen. Ihr einziger Ausweg aus diesem furchtbaren Schicksal\, und die Erfüllung ihrer Hoffnungen und Träume ist ihre Courage zu lernen. \nabdul-jabber.org \nEintritt frei – Spenden willkommen
URL:https://agora-eg.de/event/abdul-jabber-frauen-in-indien-und-bangladesch/
ATTACH;FMTTYPE=image/jpeg:https://agora-eg.de/wp-content/uploads/2024/02/2024-04-26-Abdul-Jabber.jpg
END:VEVENT
BEGIN:VEVENT
DTSTART;TZID=Europe/Berlin:20240427T193000
DTEND;TZID=Europe/Berlin:20240427T220000
DTSTAMP:20260423T120432
CREATED:20240328T073917Z
LAST-MODIFIED:20240328T073917Z
UID:2516-1714246200-1714255200@agora-eg.de
SUMMARY:Lesung mit Annette Keleş aus ihrem Roman "Nouri" und musikalischer Begleitung
DESCRIPTION:Anfang der 1990er-Jahre fühlt sich Nouri in Deutschland nicht mehr zu Hause. Araber sind dort nicht mehr gut gelitten; zudem leidet er unter der offenherzigen Art seiner deutschen Geliebte Ana. Auf einer Reise zu den Eltern nach Marseille und zur Familie nach Marokko versucht er\, sich seiner kulturellen Wurzeln zu vergewissern\, begibt sich sogar in die Stille der Wüste und überschreitet dort die Grenze nach Algerien\, seinem Geburtsland. Er kehrt verändert zurück\, ein für immer Heimatloser.\nDie tiefgreifenden Unterschiede zwischen Nouris und Anas Lebensweise\, aber auch der deutschen und marokkanischen Kultur werden aus der Perspektive ihrer Liebesbeziehung geschildert. \nMusikalisch begleitet wird sie von Ilse Schröder auf dem Saxophone \nSa. 27.4.24   Eintritt frei\, Spenden sind willkommen.
URL:https://agora-eg.de/event/lesung-mit-annette-keles-aus-ihrem-roman-nouri-und-musikalischer-begleitung/
ATTACH;FMTTYPE=image/jpeg:https://agora-eg.de/wp-content/uploads/2024/03/20240427_Bild-Lesung-Annette.jpg
END:VEVENT
END:VCALENDAR