BEGIN:VCALENDAR
VERSION:2.0
PRODID:-// - ECPv6.15.20//NONSGML v1.0//EN
CALSCALE:GREGORIAN
METHOD:PUBLISH
X-ORIGINAL-URL:https://agora-eg.de
X-WR-CALDESC:Veranstaltungen für 
REFRESH-INTERVAL;VALUE=DURATION:PT1H
X-Robots-Tag:noindex
X-PUBLISHED-TTL:PT1H
BEGIN:VTIMEZONE
TZID:Europe/Berlin
BEGIN:DAYLIGHT
TZOFFSETFROM:+0100
TZOFFSETTO:+0200
TZNAME:CEST
DTSTART:20230326T010000
END:DAYLIGHT
BEGIN:STANDARD
TZOFFSETFROM:+0200
TZOFFSETTO:+0100
TZNAME:CET
DTSTART:20231029T010000
END:STANDARD
BEGIN:DAYLIGHT
TZOFFSETFROM:+0100
TZOFFSETTO:+0200
TZNAME:CEST
DTSTART:20240331T010000
END:DAYLIGHT
BEGIN:STANDARD
TZOFFSETFROM:+0200
TZOFFSETTO:+0100
TZNAME:CET
DTSTART:20241027T010000
END:STANDARD
BEGIN:DAYLIGHT
TZOFFSETFROM:+0100
TZOFFSETTO:+0200
TZNAME:CEST
DTSTART:20250330T010000
END:DAYLIGHT
BEGIN:STANDARD
TZOFFSETFROM:+0200
TZOFFSETTO:+0100
TZNAME:CET
DTSTART:20251026T010000
END:STANDARD
END:VTIMEZONE
BEGIN:VEVENT
DTSTART;TZID=Europe/Berlin:20240705T200000
DTEND;TZID=Europe/Berlin:20240705T220000
DTSTAMP:20260423T221939
CREATED:20240514T194701Z
LAST-MODIFIED:20240705T093820Z
UID:2599-1720209600-1720216800@agora-eg.de
SUMMARY:ABGESAGT WG KRANKHEIT      „El calor del día“ - HLADEK - YANCHEV - HLADEK
DESCRIPTION:ABGESAGT WG KRANKHEIT\n„El calor del día“ – HLADEK – YANCHEV – HLADEK\n\n – Acoustic Classic & Jazz Crossover – \n\n\nPat Methenys „Heat of the day“  ist – in der spanischen Übersetzung – das Titelstück dieses Crossover-Programms mit Gitarrenmusik aus verschiedenen (Musik-)Kulturen. Es kombiniert in einer temperamentvollen und „heißen“ Mischung klassische Gitarrenmusik aus Spanien\, Südamerika und Südosteuropa u.a. von Murcia\,  Sanz\, Barrios\, Bartok\, de Falla mit Jazzstücken von Pat Metheny und Tigran Hamasyan sowie Eigenkompositionen und Improvisationen des Trios Hladek/Yanchev/Hladek. Dabei treffen in originellen und klangfarblich abwechslungsreichen Arrangements nicht nur unterschiedliche Stilrichtungen und Besetzungen von Solo bis Trio  aufeinander\, sondern auch eine große Vielfalt unterschiedlicher Gitarren- und Percussionsounds.\n\nStefan Hladek\, Gitarren / Kalin Yanchev\, Gitarren / Alexander Hladek\, Vibraphon & Percussion
URL:https://agora-eg.de/event/el-calor-del-dia-hladek-yanchev-hladek/
CATEGORIES:Kulturverein
ATTACH;FMTTYPE=image/jpeg:https://agora-eg.de/wp-content/uploads/2024/05/Trio1_EDITb-scaled-e1715715994760.jpg
ORGANIZER;CN="Agora bewegt e.V.":MAILTO:reservierung@agora-da.de
END:VEVENT
BEGIN:VEVENT
DTSTART;TZID=Europe/Berlin:20240706T200000
DTEND;TZID=Europe/Berlin:20240706T200000
DTSTAMP:20260423T221939
CREATED:20240522T151555Z
LAST-MODIFIED:20240527T152052Z
UID:2627-1720296000-1720296000@agora-eg.de
SUMMARY:TIBA & EAST WEST HARMONY – Musik aus dem Iran
DESCRIPTION:TIBA & East West Harmony\n\nDie Gruppe East West Harmony möchte zusammen mit iranischen und deutschen Musikern die besten klassischen iranischen Popsongs aus den Siebzigern bis heute mit neuen Arrangements für Klavier\, Flöte und Gesang sowie einige bekannte westliche Lieder in Persisch oder Originalsprache aufführen. Die aus dem Iran stammende Sängerin TIBA singt traditionelle und moderne Lieder aus ihrer persischen Heimat. In bewusst sparsamen Arrangements\, mit Klavier-Begleitung und besonderem Arrangement von Saeid\, ein Fotograf und Pianist\, der sein Leben und Schaffen der Kunst gewidmet hat\, kommt die klare und gefühlvolle Stimme von Tiba voll zur Geltung. Ihre musikalische Karriere begann die Sängerin\, die heute in Frankfurt lebt\, unter für Frauen widrigen Umständen im Iran in ihrer Heimatstadt Shiraz.\n\nTiba – Gesang | Saeid – Piano & Arrangement | Britta Roscher – Flöte | Masoud Hamta – Bass & Gitarre
URL:https://agora-eg.de/event/tiba-east-and-west-harmony-musik-aus-dem-iran/
ATTACH;FMTTYPE=image/jpeg:https://agora-eg.de/wp-content/uploads/2024/05/2024-07-06_Tiba-scaled-e1716823569916.jpg
END:VEVENT
BEGIN:VEVENT
DTSTART;TZID=Europe/Berlin:20240712T200000
DTEND;TZID=Europe/Berlin:20240712T200000
DTSTAMP:20260423T221939
CREATED:20240522T145837Z
LAST-MODIFIED:20240607T140251Z
UID:2611-1720814400-1720814400@agora-eg.de
SUMMARY:DER BLAUE BEREICH (Bülent Ates Trio)
DESCRIPTION:„Der blaue Bereich“ spielt Modern Jazz mit folkloristischen Anklängen.  Neben Eigenkompositionen gehören Stücke von europäischen und amerikanischen Jazzmusikern wie z.B. Louis Sclavis und Charles Mingus zum Repertoire. \nBülent Ates\, der gerade seinen 80. Geburtstag feiern konnte\, ist eine lebende Legende der Frankfurter Musiklandschaft. Der in Ankara geborene Schlagzeuger erlebte vor vielen Jahren Albert Mangelsdorff bei einem Auftritt in Istanbul und beschloss daraufhin\, nach Deutschland zu kommen. Er tourte zuvor schon durch Europa und spielte bereits 1968 mit Don Cherry in Schweden bei den „Summer House Sessions“\, die im letzten Jahr endlich auf CD dokumentiert wurden. In Frankfurt wurde er zu einem wichtigen Eckpfeiler der Szene und arbeitete u.a. mit Heinz Sauer\, Christoph Lauer\, Bob Degen\, Harry Petersen und Alfred Harth zusammen. Mit Jürgen Wuchner verband ihn eine langjährige musikalische Partnerschaft in vielen Projekten. \nGitarrist Michael Bernschneider ist seit vielen Jahren in der Frankfurter Jazzszene aktiv und spielte u.a. mit Jürgen Wuchner\, Natalya Karmazin und Thomas Langer. Er wird auch bei einigen Stücken die chromatische Mundharmonika zu Gehör bringen. \nChris Rücker ist ein stilistisch vielseitiger Kontra- und E-Bassist. Er spielt bei Nachttierhaus und der Karma Jazz Group\, mit der er auch das Jazz Arbeitsstipendium der Stadt Frankfurt erhielt. Konzertiert hat er beim Deutschen Jazzfestival Frankfurt und in der Alten Oper. \nMichael Bernschneider: Gitarre\, Harmonica | Chris Rücker: Kontrabass | Bülent Ates: Schlagzeug
URL:https://agora-eg.de/event/der-blaue-bereich/
ATTACH;FMTTYPE=image/png:https://agora-eg.de/wp-content/uploads/2024/05/2024-07-12_Der-blaue-Bereich-1-e1717768959645.png
END:VEVENT
BEGIN:VEVENT
DTSTART;TZID=Europe/Berlin:20240713T200000
DTEND;TZID=Europe/Berlin:20240713T200000
DTSTAMP:20260423T221939
CREATED:20240515T204527Z
LAST-MODIFIED:20240712T121737Z
UID:2602-1720900800-1720900800@agora-eg.de
SUMMARY:FÄLLT LEIDER AUS - VERSCHOBEN AUF 10.8. - Kabbaratz - Hoffmanns Erzählungen - Wendler kommentiert
DESCRIPTION:Hoffmanns Erzählungen\n– Wendler kommentiert – \nWenn man Putin mal beim Wort und ernst nimmt: Die Ukraine hat eigentlich immer schon zu Russland gehört. Schon im 10. Türkisch-Russischen Krieg von 1853 – 1856\, der als Krimkrieg in die Geschichte einging\, beanspruchte Russland die Krim. Die Gegend von St.-Petersburg dagegen war mal schwedisch. Das sind alte Geschichten\, aber wenn wir noch weiter zurückgehen\, hätten die Goten die älteren Gebietsansprüche. Und wo hören wir auf? \nKinderkram? Natürlich. Was uns als Kindern erzählt wurde\, prägt uns als Erwachsene. So werden Kinderbücher im 34. Programm eine Rolle spielen. Jacques Offenbachs Oper „Hoffmanns Erzählungen“ wird mit keinem Ton erwähnt und E.T.A. Hoffmanns Erzählungen mit keinem Wort. Dafür scheitert Peter Hoffmann am Improtheater\, wofür seine Kollegin Evelyn Wendler aufopferungsvoll sorgt. \nWenn die Menschen ein besseres Gedächtnis hätten\, sähen die Wahlergebnisse anders aus. Die Opposition erzählt eine andere Geschichte als die Regierung. Nicht beide Geschichten können wahr sein. Aber beide Geschichten können falsch sein. Und welcher Geschichte glauben wir? Der Geschichte\, die am besten zu unserer Geschichte passt. \nUnd garantiert wird auch im neuen Programm: zwei scharfe Zungen und Pointen wie am Fließband. \nhttps://kabbaratz.de/Startseite/ \nEintritt 18€\, ermäßigt 12€
URL:https://agora-eg.de/event/kabbaratz-hoffmanns-erzaehlungen-wendler-kommentiert/
END:VEVENT
BEGIN:VEVENT
DTSTART;TZID=Europe/Berlin:20240719T200000
DTEND;TZID=Europe/Berlin:20240719T200000
DTSTAMP:20260423T221939
CREATED:20240209T145637Z
LAST-MODIFIED:20240219T150449Z
UID:2371-1721419200-1721419200@agora-eg.de
SUMMARY:BERND LAFRENZ  "Der Widerspenstigen Zähmung"  frei-komisch nach Shakespeare
DESCRIPTION:„Der Widerspenstigen Zähmung“ – Solo Komödie frei-komisch nach Shakespeare. \nLucentio\, der in Padua studiert\, verliebt sich in die schöne\, zarte Bianca und möchte sie heiraten. Ihr Vater Baptista Minola will aber zuerst seine älteste Tochter Katharina unter die Haube bringen. Die hat jedoch Haare auf den Zähnen und ihren eigenen Willen\, so dass alle Interessenten vor der kratzbürstigen Katharina zurückschrecken. Nur der unerschrockene Teufelskerl Petruchio aus Verona will es wagen und zähmt die Widerspenstige mit einer Charmeoffensive. \nDer exzellente Multi-Mime Bernd Lafrenz ist einmal mehr der virtuose Verwandlungskünstler im Geschwindigkeitsrausch\, der sein Publikum mit Raffinessen fesselt. Gleich einem Chamäleon schlüpft er von eben noch großer Robe im Handumdrehen in eine zerschlissene Hochzeitskleidung und schockiert als Petruchio die Hochzeitsgesellschaft! Blitzschnell wechselt er Outfit und Grimassen\, schlüpft in 10 Männer- und Frauenrollen (und noch mehr Kostüme)\, markiert seine Charaktere mit winzigen Gesten\, improvisiert\, arrangiert\, animiert\, greift tief in die Trickkiste und erwischt immer neue Kniffe…bis zum furiosen Stierkampf mit Happy End. \nLafrenz und Aboualiten rücken Shakespereare´s Komödie phantasievoll und damit gewinnbringend zu Leibe und verleihen dieser Commedia dell’arte noch mehr Witz\, Esprit und Schwung.\nDABEI SEIN ODER NICHT DABEI SEIN … das ist hier keine Frage!\nLadies und Gentlemen\, das dürfen Sie nicht verpassen! \nlafrenz.de \nTickets: reservierung@agora-da.de
URL:https://agora-eg.de/event/bernd-lafrenz-der-widerspenstigen-zaehmung-frei-komisch-nach-shakespeare/
ATTACH;FMTTYPE=image/jpeg:https://agora-eg.de/wp-content/uploads/2024/02/2024-07-19-Bernd-Lafrenz-Der-Widerspenstigen-Zaehmung-c-B-Schulte-e1707490087848.jpg
END:VEVENT
BEGIN:VEVENT
DTSTART;TZID=Europe/Berlin:20240720T200000
DTEND;TZID=Europe/Berlin:20240720T200000
DTSTAMP:20260423T221939
CREATED:20240605T092528Z
LAST-MODIFIED:20240722T074852Z
UID:2633-1721505600-1721505600@agora-eg.de
SUMMARY:Line Seven
DESCRIPTION:Die Darmstädter Band „LineSeven“ besteht aus sieben erfahrenen Musiker:innen\, die dem Publikum ein sehr abwechslungsreiches akustisches Menü aus verschiedensten Stilrichtungen bietet. Die Schwerpunkte liegen auf Soul\, Rock\, Rhythm & Blues\, garniert mit etwas Funk und Latin – packende Songs aus vier Jahrzehnten. „LineSeven“ ist zwar eine sogenannte Cover-Band\, interpretiert und arrangiert die Songs jedoch in ihrem eigenen\, unverwechselbaren Stil. \nVera Freund: Gesang\nHerbert Lehr: Saxophon\, Gesang\, Percussion\nAndreas Mönikes: Gitarre\nPeter Engels: Gitarre\, Percussion\, Gesang\nNils Penzel: Keyboards\nMichael Mayer: Bass\nMichael Umbehr: Schlagzeug
URL:https://agora-eg.de/event/line-seven/
ATTACH;FMTTYPE=image/jpeg:https://agora-eg.de/wp-content/uploads/2024/06/Img52057_kor-scaled-e1717579441846.jpg
ORGANIZER;CN="Agora bewegt e.V.":MAILTO:reservierung@agora-da.de
END:VEVENT
END:VCALENDAR