BEGIN:VCALENDAR
VERSION:2.0
PRODID:-// - ECPv6.15.20//NONSGML v1.0//EN
CALSCALE:GREGORIAN
METHOD:PUBLISH
X-ORIGINAL-URL:https://agora-eg.de
X-WR-CALDESC:Veranstaltungen für 
REFRESH-INTERVAL;VALUE=DURATION:PT1H
X-Robots-Tag:noindex
X-PUBLISHED-TTL:PT1H
BEGIN:VTIMEZONE
TZID:Europe/Berlin
BEGIN:DAYLIGHT
TZOFFSETFROM:+0100
TZOFFSETTO:+0200
TZNAME:CEST
DTSTART:20240331T010000
END:DAYLIGHT
BEGIN:STANDARD
TZOFFSETFROM:+0200
TZOFFSETTO:+0100
TZNAME:CET
DTSTART:20241027T010000
END:STANDARD
BEGIN:DAYLIGHT
TZOFFSETFROM:+0100
TZOFFSETTO:+0200
TZNAME:CEST
DTSTART:20250330T010000
END:DAYLIGHT
BEGIN:STANDARD
TZOFFSETFROM:+0200
TZOFFSETTO:+0100
TZNAME:CET
DTSTART:20251026T010000
END:STANDARD
BEGIN:DAYLIGHT
TZOFFSETFROM:+0100
TZOFFSETTO:+0200
TZNAME:CEST
DTSTART:20260329T010000
END:DAYLIGHT
BEGIN:STANDARD
TZOFFSETFROM:+0200
TZOFFSETTO:+0100
TZNAME:CET
DTSTART:20261025T010000
END:STANDARD
END:VTIMEZONE
BEGIN:VEVENT
DTSTART;TZID=Europe/Berlin:20250711T200000
DTEND;TZID=Europe/Berlin:20250711T200000
DTSTAMP:20260422T115951
CREATED:20250429T160632Z
LAST-MODIFIED:20250528T215902Z
UID:3272-1752264000-1752264000@agora-eg.de
SUMMARY:BERND LAFRENZ  "DER STURM"  frei-komisch nach Shakespeare
DESCRIPTION:Der Vollblutkomödiant Bernd Lafrenz ist wieder einmal bei uns zu Gast. Mit einem schier unerschöpflichen Fundus pantomimischer und akrobatischer Einfälle und mit seiner wunderbaren Ausstrahlungskraft spielt er Shakespeare im Alleingang. Seine Show ist tempogeladen und humorvoll.  Auch für Nicht-Shakespeare-Kenner ist dieses Theaterereignis verständlich und vor allem: Es macht Spaß! \nProspero\, der rechtmäßige Herzog von Mailand\, von seinem Bruder Antonio aus seinem Herzogtum vertrieben\, ist zu einem großen Magier geworden\, dem Geister der Luft wie der Erde dienen müssen. \nSo sind der geschwinde Luftgeist Ariel und das viehische Ungeheuer Caliban in seiner Macht. Von einer einsamen Insel aus\, auf der er mit seiner fünfzehnjährigen Tochter Miranda lebt\, erregt er einen gewaltigen Sturm und lässt ein Schiff stranden. Der Tag der Vergeltung scheint gekommen\, denn durch den Schiffbruch bringt Prospero seine alten Feinde auf die Insel: nicht nur den verräterischen Bruder Antonio\, sondern auch den Mitschuldigen Alonso\, König von Neapel\, und dessen missgünstigen Bruder Sebastian. Doch auch Ferdinand\, der edle Sohn des Königs Alonso\, und Gonzalo\, der alte\, ehrliche Ratgeber\, retten sich aus dem Schiffbruch auf die Insel\, dazu von dem Hofgesinde der Spaßmacher Trinculo und der betrunkene Kellermeister Stefano. Mit Hilfe des Luftgeistes Ariel bringt Prospero die Gestrandeten in die tollsten Wirren. \nDer Sturm ist Shakespeares letztes Werk. Im Jahre 1611 kam es am englischen Königshofe zur Uraufführung. Freuen wir uns auf die Interpretation von Bernd Lafrenz. \nlafrenz.de \nEintritt 20€\, ermäßigt 13€  –  reservierung@agora-da.de  –  Fr. 11. Juli 2025 – 20:00  –  Agora-Kultur am Ostbahnhof in Darmstadt  –  Tickets im Restaurant Butter & Blume und über https://ztix.de/hp/events/26961/info
URL:https://agora-eg.de/event/bernd-lafrenz-der-sturm-frei-komisch-nach-shakespeare/
ATTACH;FMTTYPE=image/jpeg:https://agora-eg.de/wp-content/uploads/2025/04/2025-07-11_Bernd-Lafrenz_Sturm-cAchim-Kaeflein-e1745942185565.jpg
END:VEVENT
BEGIN:VEVENT
DTSTART;TZID=Europe/Berlin:20250717T200000
DTEND;TZID=Europe/Berlin:20250717T200000
DTSTAMP:20260422T115951
CREATED:20250528T172129Z
LAST-MODIFIED:20250610T224837Z
UID:3301-1752782400-1752782400@agora-eg.de
SUMMARY:TRIO BARU - 20 Jahre Brasilien
DESCRIPTION:Trio Baru feat. Nana Pastorello: das sind die Gitarristen João Bosco de Oliveira und Nelson Latif\, der auch das Cavaquinho spielt\, sowie der Percussionist Sandro Alves. Bei einigen Stücken wird die brasilianische Sängerin Nana Pastorello dabei sein. Das Trio Baru hat eine 20-jährige Geschichte hinter sich\, mit jazzigen\, klassischen\, populär-brasilianischen und afro-brasilianischen Wurzeln. Daraus werden sie an diesem Abend das Beste vorstellen. Über Brasilien hinaus haben sie ihr Publikum in Europa\, Asien\, Afrika und den Amerikas überzeugt. \nDie Musiker haben unterschiedliche musikalische Schwerpunkte: Latif im Choro\, dem großen Bruder des Sambas\, Bosco Oliveira im spanischen Flamenco und Sandro Alves in den traditionellen regionalen Stilen. Im Jahr 2011 veröffentlichte das Trio Baru ihr erstes Album Alma Brasileira; 2016 ihre erste DVD namens Trio Baru\, Dez Anos.  \nNelson Latif bildete seine musikalische Identität in der legendären Jazzszene der 1980er Jahre São Paulo. Mit Wurzeln in Choro und Jazz verschmilzt er brasilianische Stile und eine klassische Gitarrentechnik mit vielfältigen musikalischen Einflüssen. In seiner melodischen Phrasierung hört man Bebop und brasilianische Synkopen. Als kultureller Promoter hat Nelson Latif Bildungsprojekte für Universitäten und kulturelle Institutionen auf der ganzen Welt koordiniert.  \nJoão Bosco de Oliveira wurde 1967 in Brasília geboren und begann schon im Alter von 8 Jahren Gitarre zu spielen. Er studierte klassische Gitarre in der Escola de Música de Brasília\, wo er ab 1993 selber unterrichtete\, und der Universidade de Brasília.  \nAus Rio de Janeiro\, der Stadt des Sambas\, stammt der Percussionist Sandro Alves. Er ist Spezialist bei der Mischung der traditionellen Stile der afro-brasilianischen Musik mit modernem Jazz. Alves spielt nicht nur mit Trio Baru\, er kann auch in ganz Brasilien als Begleiter der bekanntesten Sänger:innen des Landes erlebt werden. \nhttps://triobaru.com/ \nEintritt 15€\, ermäßigt 10€  –  reservierung@agora-da.de  –  Do. 17. Juli 2025 – 20:00  –  Agora-Kultur am Ostbahnhof in Darmstadt
URL:https://agora-eg.de/event/trio-baru-20-jahre-brasilien/
ATTACH;FMTTYPE=image/jpeg:https://agora-eg.de/wp-content/uploads/2025/05/2025-07-17_Trio-Baru.jpg
END:VEVENT
BEGIN:VEVENT
DTSTART;TZID=Europe/Berlin:20250720T200000
DTEND;TZID=Europe/Berlin:20250720T200000
DTSTAMP:20260422T115951
CREATED:20250527T204946Z
LAST-MODIFIED:20250528T122610Z
UID:3303-1753041600-1753041600@agora-eg.de
SUMMARY:CHIAO-HUA CHANG & MARKUS WACH - Vom Balkan über den Orient bis Ostasien
DESCRIPTION:Klangfarben und Musikwelten \nDie aus Taiwan stammende\, in Wien lebende Erhu-Spielerin Chiao-Hua Chang und der Multi-Instrumentalist Markus Wach lernten sich zu den Aufnahmen von seinem Album „a somnambule beauty’s serpentine traces“ kennen. Beide waren gleichermaßen von der Idee fasziniert die besonderen Klänge traditioneller Musikinstrumente in moderne Kompositionen zu überführen\, den Fokus auf die selten gehörten Timbres dieser zu setzen und den Reichtum an Sounds in experimentelles Spielen zu transportieren. Im Duo konzertierend wechseln die Musiker nicht nur ihre Instrumente sondern bewegen sich auch fließend zwischen Traditionen\, Kompositionen und Improvisationen. \nChiao-Hua Chang – Erhu (2-saitige chinesische Laute)\, Morin Khuur (mongolische Pferdekopfgeige)\, Gesang | Markus Wach – traditionelle Saiteninstrumente \nhttps://www.markuswach.de/ \nhttps://www.hohaiyan-arts.com/service_3_detail/229.htm \nEintritt 15€\, ermäßigt 10€  –  reservierung@agora-da.de  –  So. 20. Juli 2025 – 20:00  –  Agora-Kultur am Ostbahnhof in Darmstadt
URL:https://agora-eg.de/event/chiao-hua-chang-markus-wach-taiwan-orient/
ATTACH;FMTTYPE=image/jpeg:https://agora-eg.de/wp-content/uploads/2025/05/2025-07-20_Chiao-Hua-Chang_Markus-Wach-scaled-e1748378238765.jpg
END:VEVENT
END:VCALENDAR