BEGIN:VCALENDAR
VERSION:2.0
PRODID:-// - ECPv6.15.20//NONSGML v1.0//EN
CALSCALE:GREGORIAN
METHOD:PUBLISH
X-ORIGINAL-URL:https://agora-eg.de
X-WR-CALDESC:Veranstaltungen für 
REFRESH-INTERVAL;VALUE=DURATION:PT1H
X-Robots-Tag:noindex
X-PUBLISHED-TTL:PT1H
BEGIN:VTIMEZONE
TZID:Europe/Berlin
BEGIN:DAYLIGHT
TZOFFSETFROM:+0100
TZOFFSETTO:+0200
TZNAME:CEST
DTSTART:20240331T010000
END:DAYLIGHT
BEGIN:STANDARD
TZOFFSETFROM:+0200
TZOFFSETTO:+0100
TZNAME:CET
DTSTART:20241027T010000
END:STANDARD
BEGIN:DAYLIGHT
TZOFFSETFROM:+0100
TZOFFSETTO:+0200
TZNAME:CEST
DTSTART:20250330T010000
END:DAYLIGHT
BEGIN:STANDARD
TZOFFSETFROM:+0200
TZOFFSETTO:+0100
TZNAME:CET
DTSTART:20251026T010000
END:STANDARD
BEGIN:DAYLIGHT
TZOFFSETFROM:+0100
TZOFFSETTO:+0200
TZNAME:CEST
DTSTART:20260329T010000
END:DAYLIGHT
BEGIN:STANDARD
TZOFFSETFROM:+0200
TZOFFSETTO:+0100
TZNAME:CET
DTSTART:20261025T010000
END:STANDARD
END:VTIMEZONE
BEGIN:VEVENT
DTSTART;TZID=Europe/Berlin:20251203T200000
DTEND;TZID=Europe/Berlin:20251203T200000
DTSTAMP:20260420T123755
CREATED:20251015T225904Z
LAST-MODIFIED:20251019T111212Z
UID:3586-1764792000-1764792000@agora-eg.de
SUMMARY:PIRAÍ VACA - Crossover-Gitarrist aus Bolivien
DESCRIPTION:Piraí Vaca ist einer der anerkanntesten Musiker Boliviens sowohl national als auch international. Durch sein Charisma auf der Bühne\, seine Technik und seinen Glauben an die belebende Kraft der Musik wurde er zu einem der am meisten bewunderten Gitarristen Lateinamerikas. Konzertreisen führten ihn nach Nord- und Südamerika\, Europa und Asien. \nIn Anerkennung seiner internationalen Karriere wurde Piraí Vaca als einer von wenigen lateinamerikanischen Künstlern mit dem Preis „Fellowship of the Americas“ ausgezeichnet\, der vom renommierten John F. Kennedy Center for Performing Arts in Washington verliehen wird. \nPiraí Vaca wurde in Santa Cruz geboren. Er studierte mit Jesús Ortega am Instituto Superior de Arte in Havanna\, wo er seinen Abschluss mit dem Musikdiplom im Hauptfach Gitarre machte. Gleichzeitig erhielt er den Preis für den besten Studienabgänger des Jahres. Dort legte er auch ein Zusatzstudium über Musik aus der Renaissance ab. Mit Manuel Barrueco in den USA und Hubert Käppel an der Musikhochschule Köln führte Piraí Vaca seine künstlerische Ausbildung fort. Mit ihm\, Sotiris Malasiotis und Luciano Marziali bildete er das „Fénix International Guitar Quartet“. \nSeitdem Piraí Vaca vor nahezu 30 Jahren die nationalen Bühnen in Bolivien betrat\, fasziniert er das Publikum wie kaum wie ein anderer junger Künstler. Er wurde als brillanter Musiker gefeiert\, der „musikalische Reife und Kühnheit in seinem exzeptionellen Spiel verbindet“. Piraí Vaca hat eine ganz eigene künstlerische Handschrift entwickelt. Die intensive Beschäftigung mit verschiedenartiger Musik ist für ihn selbstverständlich\, zurück ins 19. Jahrhundert und vorwärts ins 21. Jahrhundert. \nBei seinen Auftritten nimmt er die Zuhörenden mit auf eine Reise durch Klassik\, Folk\, Jazz\, Pop und Rock. Wie David Garrett ist er ein Meister der Crossover-Performance. \n \nhttps://www.piraivaca.com/ \nhttps://es.wikipedia.org/wiki/Pira%C3%AD_Vaca \n\nEintritt 15€\, ermäßigt 10€  –  reservierung@agora-da.de  –  Mi. 3. Dezember 2025 – 20:00  –  Agora-Kultur am Ostbahnhof in Darmstadt  –  Tickets im Restaurant Butter & Blume\, im DA-Shop im Luisencenter und über ztix
URL:https://agora-eg.de/event/pirai-vaca-in-darmstadt/
ATTACH;FMTTYPE=image/jpeg:https://agora-eg.de/wp-content/uploads/2025/10/2025-12-03_Pirai-Vaca-2.jpeg
END:VEVENT
BEGIN:VEVENT
DTSTART;TZID=Europe/Berlin:20251204T200000
DTEND;TZID=Europe/Berlin:20251204T200000
DTSTAMP:20260420T123755
CREATED:20250916T224242Z
LAST-MODIFIED:20250916T224242Z
UID:3511-1764878400-1764878400@agora-eg.de
SUMMARY:MARIANNE ET LES GARÇONS - Jazz et Chansons Françaises
DESCRIPTION:Jazz et Chansons Françaises avec Marianne Djaida Henry-Perret \nWenn die frühere Chefin des Darmstädter Restaurants „Belleville“ einmal im Monat den Kochlöffel gegen das Mikrofon vertauschte\, brodelte es auf der Bühne so heftig wie zuvor auf dem Herd. Dabei ist das Repertoire der Französin mindestens so abwechslungsreich wie ihre Speisekarte. Mit Pariser Charme und dem Feuer ihrer berberischen Vorfahren begeistert sie ihr Publikum mit Chansons von Juliette Greco bis Jacques Dutronc und Jazz von Serge Gainsbourg oder Claude Nougaro\, sowie mit vielen Geschichten um die Musik und ihre Interpretinnen und Interpreten. \nDie „Singende Köchin“ so laut einem Artikel der FAZ über sie\, begann schon früher aus lauter Lust und Freude am Singen ihre Gäste nach einem gelungenen Abend im Restaurant mit Chansons zu unterhalten. Langsam entwickelte sich aus Musikerfreunden eine Liveband für ihre Auftritte. \nDie aktuelle Besetzung der „Les Garçons“\, das sind drei erfahrene Darmstädter Musiker:\nMichael Erhard\, Pianist und Akkordeonspieler\, Komponist\, Arrangeur und langjähriger musikalischer Leiter des Schauspiels am Staatstheater Darmstadt\,\nDieter Kociemba\, Gitarrist und Musikpädagoge und\nWolfgang Ritter am Kontrabass\, vielbeschäftigter Livebassist und durch seine Studioarbeit auf mehr als 100 Produktionen vertreten. \n« Marianne et les Garçons » sind bekannt geworden durch viele Auftritte u.a. in Paris\, Frankfurt\, den Weinfesten an der Mosel\, dem Heinerfest und selbstverständlich den allmonatlichen Auftritten im Restaurant Belleville und im Bessunger Jagdhofkeller. Auch am 14.Juli\, dem großen Open Air zum französischen Nationalfeiertag im Jagdhof durften sie nicht auf der großen Bühne fehlen. \nWir bei Agora freuen uns sehr\, dass wir ihnen unsere Bühne anbieten können. \nEintritt 15€\, ermäßigt 10€  –  reservierung@agora-da.de  –  Do. 4. Dezember 2025 – 20:00  –  Agora-Kultur am Ostbahnhof in Darmstadt  –  Tickets im Restaurant Butter & Blume\, im DA-Shop im Luisencenter und über ztix
URL:https://agora-eg.de/event/marianne-et-les-garcons-jazz-et-chansons-francaises/
ATTACH;FMTTYPE=image/jpeg:https://agora-eg.de/wp-content/uploads/2025/09/2025-12-04_Marianne-et-les-Garcons.jpg
END:VEVENT
BEGIN:VEVENT
DTSTART;TZID=Europe/Berlin:20251206T200000
DTEND;TZID=Europe/Berlin:20251206T200000
DTSTAMP:20260420T123755
CREATED:20251016T114502Z
LAST-MODIFIED:20251016T115501Z
UID:3592-1765051200-1765051200@agora-eg.de
SUMMARY:Bal Poussière: AFRICAIN HARMONY (Senegal)
DESCRIPTION:Das musikalische Spektrum der senegalesischen Gruppe Africain Harmony ist sehr umfangreich und vielseitig. Entsprechend der Tradition der Griots (eingeweihte Musiker) werden Geschichten musikalisch erzählt und gesungen\, die die Zuhörer*innen tief in die Musik eintauchen lassen. Melodien und Rhythmen\, die beruhigen und entspannen oder sehr lebensfroh und belebend sind und zum gemeinsamen Singen\, Klatschen und Tanzen einladen. \nDas Konzert findet in einem magischen Licht von Kristallen statt und wird durch Tanzperformances bereichert. Durch Interaktionen sind die Zuhörer*innen und Zuschauer*innen eingeladen aktiv teilnehmen und sich der Musik und dem Licht der Kristalle hinzugeben. \nAfricain Harmony: Mafsingsing Faye\, Ndongo Faye\, Mor Dieng\, Abdoulaye | Tänzerin: Helené Sanga | Kristall-Licht: Uta Ritsert \n\nEintritt 15€\, ermäßigt 10€  –  reservierung@agora-da.de  –  Sa. 6. Dezember 2025 – 20:00  –  Agora-Kultur am Ostbahnhof in Darmstadt  –  Tickets im Restaurant Butter & Blume\, im DA-Shop im Luisencenter und über ztix
URL:https://agora-eg.de/event/bal-poussiere-africain-harmony/
ATTACH;FMTTYPE=image/jpeg:https://agora-eg.de/wp-content/uploads/2025/10/mafsingsing-singt-e1760615646983.jpg
END:VEVENT
BEGIN:VEVENT
DTSTART;TZID=Europe/Berlin:20251207T200000
DTEND;TZID=Europe/Berlin:20251207T200000
DTSTAMP:20260420T123755
CREATED:20251016T134542Z
LAST-MODIFIED:20251125T175107Z
UID:3597-1765137600-1765137600@agora-eg.de
SUMMARY:ERNESTO CARDENAL - eine Hommage "Heimweh nach dem Paradies"
DESCRIPTION:Eine Konzertlesung der besonderen Art:  Hommage an ERNESTO CARDENAL „Heimweh nach dem Paradies“ mit GRUPO SAL DUO\, moderiert von Cardenals Übersetzer LUTZ KLICHE (Wuppertal)\, gelesen von PETER SCHMIDT (Darmstadt) \nAls Hommage an Ernesto Cardenal und mit Blick auf seinen 100. Geburtstag in diesem Jahr sowie anlässlich der Herausgabe des beeindruckenden Erinnerungsbandes „Heimweh nach dem Paradies – Ernesto Cardenal: Dichter\, Priester\, Revolutionär“ laden wir dazu ein\, sein eindrucksvolles Leben\, sein Werk und seinen prägenden literarischen und politisch-theologischen Fußabdruck gemeinsam mit uns zu feiern. \nCardenal war politischer Dichter\, aber auch tief gläubiger Mystiker.  Er war Priester\, der das Paradies nicht im Jenseits suchte\, und nahm als Vertreter der urchristlichen Vorstellung die Welt als Ganzes in den Blick.  Vor allem schuf er als Revolutionär Raum für politische und sozialrevolutionäre Diskurse und prägte diese international und generationen-übergreifend.  Als „Stimme des Südens“ inspiriert er bis heute vor allem europaweit die Eine-Welt-Bewegung und Aktivist*innen im Kampf um Gerechtigkeit. \nGerade angesichts der aktuellen politischen Situation in Nicaragua\, ist die Integrität seiner politischen Haltung und seine Spiritualität von großer Bedeutung. \nEs wird vielleicht eine letzte große Hommage an diesen bedeutenden\, mystischen\, revolutionären Dichter und Priester sein\, dessen öffentliche Wahrnehmung 5 Jahre nach seinem Tode\, im März 2020\, bedauerlicherweise verblasst. \nIm Vordergrund der Veranstaltung steht die Sensibilisierung für die visionäre Kraft des Wirkens und der Lyrik von Ernesto Cardenal: als einer der herausragenden Vertreter der Theologie der Befreiung\, als ein Titan der lateinamerikanischen Literatur und als Zeuge und Mitgestalter einer kurzen aber intensiven gesellschaftlichen Ära sozialer Emanzipation und gelebter Träume. Dies geschieht mit Hilfe einer stimmigen Kombination aus Lesung\, Geschichtenerzählung und Musik. \nDas Leben von Ernesto Cardenal ist von überaus spannenden Momenten geprägt\, die sich in zeitgeschichtlich relevanten Kontexten ereigneten. Die Passagen und Stationen seines Lebens werden vom Moderator\, seinem Übersetzer und engen Freund\, Lutz Kliche\, der viele davon miterlebt hat\, mit viel Humor und Zuneigung erzählt. Ernesto Cardenals Texte werden vom Darmstädter Zeitzeugen und Autor Peter Schmidt kongenial vorgetragen. \nDie Duo-Formation der Musikgruppe Grupo Sal besteht\, passend zum Anlass\, aus zwei Freunden und Wegbegleitern Cardenals: Aníbal Civilotti und Fernando Dias Costa. Sie schlagen in unverwechselbarer Form die Brücke zwischen Poesie und Musik. Dadurch entsteht eine intensive\, passionierte Atmosphäre\, die der Lyrik und den Geschichten einen sinnlichen Rahmen verleiht. \n \nDieser Abend ist zugleich eine zutiefst ergreifende Hommage an den mystisch-revolutionären Lyriker und Theologen Ernesto Cardenal wie auch die Kontextualisierung seiner Botschaften in einem hoffnungsvollen und zukunftsgewandten Diskurs. \ngrupo-sal.de \nbuchdetails/heimweh-nach-dem-paradies \nhttps://de.wikipedia.org/wiki/Ernesto_Cardenal \nDiese Veranstaltung wird von einem großen Netzwerk von zivilgesellschaftlichen Gruppen und Einrichtungen getragen: Zentrum Ökumene\, Katholischer Fonds\, Evangelisches Dekanat\, khg\, nr30\, ESG\, vhs\, DGB\, GEW\, IGMetall\, Werkhof und Sandino-Partnerschaft. \n \n\nEintritt 15€\, ermäßigt 10€  –  reservierung@agora-da.de  –  So. 7. Dezember 2025 – 20:00  –  Agora-Kultur am Ostbahnhof in Darmstadt  –  Tickets im Restaurant Butter & Blume\, im DA-Shop im Luisencenter und über ztix
URL:https://agora-eg.de/event/ernesto-cardenal-eine-hommage-heimweh-nach-dem-paradies/
ATTACH;FMTTYPE=image/jpeg:https://agora-eg.de/wp-content/uploads/2025/10/2025-12-07_Ernesto-Cardenal-e1760632922116.jpg
END:VEVENT
BEGIN:VEVENT
DTSTART;TZID=Europe/Berlin:20251219T193000
DTEND;TZID=Europe/Berlin:20251219T213000
DTSTAMP:20260420T123755
CREATED:20250921T111547Z
LAST-MODIFIED:20251121T151822Z
UID:3529-1766172600-1766179800@agora-eg.de
SUMMARY:Kurzfilme "zum kürzesten Tag des Jahres"
DESCRIPTION:Wie jedes Jahr zeigen wir eine Reihe von Kurzfilmen „zum kürzesten Tag des Jahres“. Das Motto des bundesweiten Kurzfilmtags ist 2025 „Jetzt!“. Das Filmpaket für die Agora-Kurzfilmnacht steht: „Best of Deutscher Jugendfilmpreis 2025“. \nDer Deutsche Jugendfilmpreis ruft seit 38 Jahren junge Kreative zur filmischen Auseinandersetzung mit ihrer Lebenswelt auf. Im diesjährigen Wettbewerb wurden über 350 Beiträge junger Filmemacher*innen eingereicht. Übrig geblieben ist nach der Juryentscheidung die „Crème de la Crème“ des aktuellen Jahrgangs. Ob lustig oder nachdenklich stimmend – alles Filme und Geschichten von Jugendlichen für Jugendliche und auch alle anderen! 28 Filme wurden für den Deutschen Jugendfilmpreis 2025 nominiert bzw. ausgezeichnet und beim Bundes.Festival.Film. gezeigt. Acht dieser Filme zeigen wir im Rahmen des diesjährigen KURZFILMTAGs. Altersempfehlung ab 12 Jahre.
URL:https://agora-eg.de/event/kurzfilme-zum-kuezesten-tag-tag-des-jahres/
LOCATION:Agora am Ostbahnhof Darmstadt\, Erbacher Strasse 89\, Darmstadt\, Hessen\, 64287\, Deutschland
ATTACH;FMTTYPE=image/png:https://agora-eg.de/wp-content/uploads/2025/09/2025-12-19_best-of-deutscher-jugendfilmpreis.png
ORGANIZER;CN="Agora bewegt e.V.":MAILTO:reservierung@agora-da.de
END:VEVENT
END:VCALENDAR