BEGIN:VCALENDAR
VERSION:2.0
PRODID:-// - ECPv6.15.20//NONSGML v1.0//EN
CALSCALE:GREGORIAN
METHOD:PUBLISH
X-ORIGINAL-URL:https://agora-eg.de
X-WR-CALDESC:Veranstaltungen für 
REFRESH-INTERVAL;VALUE=DURATION:PT1H
X-Robots-Tag:noindex
X-PUBLISHED-TTL:PT1H
BEGIN:VTIMEZONE
TZID:Europe/Berlin
BEGIN:DAYLIGHT
TZOFFSETFROM:+0100
TZOFFSETTO:+0200
TZNAME:CEST
DTSTART:20250330T010000
END:DAYLIGHT
BEGIN:STANDARD
TZOFFSETFROM:+0200
TZOFFSETTO:+0100
TZNAME:CET
DTSTART:20251026T010000
END:STANDARD
BEGIN:DAYLIGHT
TZOFFSETFROM:+0100
TZOFFSETTO:+0200
TZNAME:CEST
DTSTART:20260329T010000
END:DAYLIGHT
BEGIN:STANDARD
TZOFFSETFROM:+0200
TZOFFSETTO:+0100
TZNAME:CET
DTSTART:20261025T010000
END:STANDARD
BEGIN:DAYLIGHT
TZOFFSETFROM:+0100
TZOFFSETTO:+0200
TZNAME:CEST
DTSTART:20270328T010000
END:DAYLIGHT
BEGIN:STANDARD
TZOFFSETFROM:+0200
TZOFFSETTO:+0100
TZNAME:CET
DTSTART:20271031T010000
END:STANDARD
END:VTIMEZONE
BEGIN:VEVENT
DTSTART;TZID=Europe/Berlin:20260627T180000
DTEND;TZID=Europe/Berlin:20260627T180000
DTSTAMP:20260423T203100
CREATED:20260415T125213Z
LAST-MODIFIED:20260419T141008Z
UID:3948-1782583200-1782583200@agora-eg.de
SUMMARY:ANKATÅ Afro Modern Performance & AfroTanzSommerfest
DESCRIPTION:Nachdem um 19 Uhr das AfroTanzSommerfest mit Aufführungen der AfroTanz Gruppen startet\,\n\nlädt um 20 Uhr die Afro Modern Performance Gruppe ANKATÅ zu einer anregenden AUSLESE voller Rhythmen aus Djembé\, Ölfass\, südafrikanischen gumBoots\, Vocals\, Tanz und Humor zu erleben.\n\nBEST OF 28 Jahre ANKATÅ\, „zwischen Stühlen und Welten“\, \nist eine pulsierende liveShow mit 2 MusikerInnen und 3 Tänzerinnen aus Rhein-Main.\n\n\nAb 21 Uhr spielen die Ankatå-MusikerInnen  mit spannenden Gästen wie Anani Attih\, Gabriel Daly\, Cornel Dengler\,… für alle Tanzlustigen und Rhythmusbegeisterten zum Tanz auf \n\n\nEintritt frei – Spenden willkommen  –  Sa. 27. Juni 2026  –  18:00  –  bei Agora-Kultur am Ostbahnhof in Darmstadt
URL:https://agora-eg.de/event/ankata-afro-tanz/
ATTACH;FMTTYPE=image/jpeg:https://agora-eg.de/wp-content/uploads/2026/04/2026-06-27_Ankata.jpeg
END:VEVENT
END:VCALENDAR