BEGIN:VCALENDAR
VERSION:2.0
PRODID:-// - ECPv6.15.20//NONSGML v1.0//EN
CALSCALE:GREGORIAN
METHOD:PUBLISH
X-ORIGINAL-URL:https://agora-eg.de
X-WR-CALDESC:Veranstaltungen für 
REFRESH-INTERVAL;VALUE=DURATION:PT1H
X-Robots-Tag:noindex
X-PUBLISHED-TTL:PT1H
BEGIN:VTIMEZONE
TZID:Europe/Berlin
BEGIN:DAYLIGHT
TZOFFSETFROM:+0100
TZOFFSETTO:+0200
TZNAME:CEST
DTSTART:20250330T010000
END:DAYLIGHT
BEGIN:STANDARD
TZOFFSETFROM:+0200
TZOFFSETTO:+0100
TZNAME:CET
DTSTART:20251026T010000
END:STANDARD
BEGIN:DAYLIGHT
TZOFFSETFROM:+0100
TZOFFSETTO:+0200
TZNAME:CEST
DTSTART:20260329T010000
END:DAYLIGHT
BEGIN:STANDARD
TZOFFSETFROM:+0200
TZOFFSETTO:+0100
TZNAME:CET
DTSTART:20261025T010000
END:STANDARD
BEGIN:DAYLIGHT
TZOFFSETFROM:+0100
TZOFFSETTO:+0200
TZNAME:CEST
DTSTART:20270328T010000
END:DAYLIGHT
BEGIN:STANDARD
TZOFFSETFROM:+0200
TZOFFSETTO:+0100
TZNAME:CET
DTSTART:20271031T010000
END:STANDARD
END:VTIMEZONE
BEGIN:VEVENT
DTSTART;TZID=Europe/Berlin:20260717T200000
DTEND;TZID=Europe/Berlin:20260717T200000
DTSTAMP:20260425T143136
CREATED:20260415T221600Z
LAST-MODIFIED:20260415T221600Z
UID:3955-1784318400-1784318400@agora-eg.de
SUMMARY:BERND LAFRENZ  "Die lustigen Weiber von Windsor"  Frei-komisch nach Shakespeare
DESCRIPTION:Sir John Falstaff und seine 3 Kumpanen schlagen sich in Windsor mehr schlecht als recht durchs Leben. Um einfacher an Geld zu kommen\, beschließt Falstaff parallel mit zwei reichen Bürgersfrauen\, Frau Page und Frau Ford\, anzubandeln und schreibt ihnen zwei gleich lautende Liebesbriefe. Als das Doppelspiel von den beiden Damen entdeckt wird\, planen beide eine süße Rache. Dabei hilft ihnen Frau Quickly\, die dritte im Bunde der Frauenverschwörung. Falstaff wird von der Abwesenheit des Herrn Ford informiert\, so dass Falstaff in dieser scheinbar günstigen Situation ein Techtelmechtel mit Frau Ford beginnen will. Doch plötzlich stürmt Frau Page ins Haus und kündigt die rasche Rückkehr von Herrn Ford an und Falstaff gelingt das scheinbar Unmögliche\, noch vor dem eifersüchtigen Herrn Ford unbemerkt\, allerdings mit Hindernissen\, aus dem Hause zu entkommen. Hoch erfreut über ihren gelungen Coup beschließen die Damen\, Falstaff ein weiteres Mal an der Nase herum zu führen. \nEiner Überlieferung zufolge hat Shakespeare dieses Stück auf ausdrücklichen Wunsch der Königin Elisabeth geschrieben\, sie war so amüsiert über die Rolle des Falstaff in dem Werk Heinrich der Vierte\, dass sie Falstaff als Liebhaber sehen wollte. Mit seinem komödiantischen Temperament sondergleichen und mit einem Feuerwerk an vielfältiger Gestik und Mimik spielt Bernd Lafrenz nun seine 9. Shakespeare Solo Komödie. Die Regie zu dieser turbulenten Komödie führt wieder Abel Aboualiten aus Paris. \nlafrenz.de \nEintritt 20€\, ermäßigt 13€  –  reservierung@agora-da.de  –  Fr. 17. Juli 2026 – 20:00  –  Agora-Kultur am Ostbahnhof in Darmstadt  –  Tickets im Restaurant Butter & Blume\, im neuen DA-Shop im Rathausfoyer und über ztix \n  \n  \n 
URL:https://agora-eg.de/event/bernd-lafrenz-die-lustigen-weiber-von-windsor-frei-komisch-nach-shakespeare/
ATTACH;FMTTYPE=image/jpeg:https://agora-eg.de/wp-content/uploads/2026/04/2026-07-17_Bernd-Lafrenz_Lustige-Weiber-c-Olympia-Sprenger-scaled-e1776290891187.jpg
END:VEVENT
END:VCALENDAR